{"text_format":"3","workbook":"xlsx","n_sheets":1,"sheets":["Table 1"],"not_rendered":{"external_links":1},"read":"whole","date_system":"1900"}

{"sheet":"Table 1","index":0,"n_rows":301,"n_cols":7,"rows_kept":301}
["岗位代码","招录人数","报考人数","地市","用人单位","职位名称","比例"]
[45040119,1,6,{"$f":"VLOOKUP(A2,[1]Sheet1!$A:$F,2,0)","v":"梧州市"},{"$f":"VLOOKUP(A2,[1]Sheet1!$A:$F,3,0)","v":"梧州市岑溪市市场监管综合行政执法大队"},{"$f":"VLOOKUP(A2,[1]Sheet1!$A:$F,4,0)","v":"综合职位"},{"$f":"ROUND(C2/B2,0)&\":\"&\"1\"","v":"6:1"}]
[45040192,1,6,{"$f":"VLOOKUP(A3,[1]Sheet1!$A:$F,2,0)","v":"梧州市"},{"$f":"VLOOKUP(A3,[1]Sheet1!$A:$F,3,0)","v":"梧州市藤县塘步镇人民政府"},{"$f":"VLOOKUP(A3,[1]Sheet1!$A:$F,4,0)","v":"武装干事职位"},{"$f":"ROUND(C3/B3,0)&\":\"&\"1\"","v":"6:1"}]
[45040216,1,6,{"$f":"VLOOKUP(A4,[1]Sheet1!$A:$F,2,0)","v":"梧州市"},{"$f":"VLOOKUP(A4,[1]Sheet1!$A:$F,3,0)","v":"梧州市万秀区司法局"},{"$f":"VLOOKUP(A4,[1]Sheet1!$A:$F,4,0)","v":"办公室综合职位一"},"6:1"]
[45050012,1,6,{"$f":"VLOOKUP(A5,[1]Sheet1!$A:$F,2,0)","v":"北海市"},{"$f":"VLOOKUP(A5,[1]Sheet1!$A:$F,3,0)","v":"北海市公安局"},{"$f":"VLOOKUP(A5,[1]Sheet1!$A:$F,4,0)","v":"档案管理职位"},"6:1"]
[45050098,1,6,{"$f":"VLOOKUP(A6,[1]Sheet1!$A:$F,2,0)","v":"北海市"},{"$f":"VLOOKUP(A6,[1]Sheet1!$A:$F,3,0)","v":"北海市铁山港区兴港镇人民政府"},{"$f":"VLOOKUP(A6,[1]Sheet1!$A:$F,4,0)","v":"综合职位二（一级科员）"},"6:1"]
[45060071,1,6,{"$f":"VLOOKUP(A7,[1]Sheet1!$A:$F,2,0)","v":"防城港市"},{"$f":"VLOOKUP(A7,[1]Sheet1!$A:$F,3,0)","v":"防城港市上思县司法局"},{"$f":"VLOOKUP(A7,[1]Sheet1!$A:$F,4,0)","v":"司法职位"},"6:1"]
[45070053,1,6,{"$f":"VLOOKUP(A8,[1]Sheet1!$A:$F,2,0)","v":"钦州市"},{"$f":"VLOOKUP(A8,[1]Sheet1!$A:$F,3,0)","v":"钦州市钦北区农业综合行政执法大队"},{"$f":"VLOOKUP(A8,[1]Sheet1!$A:$F,4,0)","v":"综合职位"},"6:1"]
[45070060,1,6,{"$f":"VLOOKUP(A9,[1]Sheet1!$A:$F,2,0)","v":"钦州市"},{"$f":"VLOOKUP(A9,[1]Sheet1!$A:$F,3,0)","v":"钦州市钦北区大直镇人民政府"},{"$f":"VLOOKUP(A9,[1]Sheet1!$A:$F,4,0)","v":"武装干事职位"},"6:1"]
[45070068,1,6,{"$f":"VLOOKUP(A10,[1]Sheet1!$A:$F,2,0)","v":"钦州市"},{"$f":"VLOOKUP(A10,[1]Sheet1!$A:$F,3,0)","v":"钦州市灵山县司法局平南司法所"},{"$f":"VLOOKUP(A10,[1]Sheet1!$A:$F,4,0)","v":"综合职位"},"6:1"]
[45070069,1,6,{"$f":"VLOOKUP(A11,[1]Sheet1!$A:$F,2,0)","v":"钦州市"},{"$f":"VLOOKUP(A11,[1]Sheet1!$A:$F,3,0)","v":"钦州市灵山县司法局佛子司法所"},{"$f":"VLOOKUP(A11,[1]Sheet1!$A:$F,4,0)","v":"综合职位"},"6:1"]
[45080016,1,6,{"$f":"VLOOKUP(A12,[1]Sheet1!$A:$F,2,0)","v":"贵港市"},{"$f":"VLOOKUP(A12,[1]Sheet1!$A:$F,3,0)","v":"贵港市文化市场综合行政执法支队"},{"$f":"VLOOKUP(A12,[1]Sheet1!$A:$F,4,0)","v":"执法综合职位二"},"6:1"]
[45150018,2,6,{"$f":"VLOOKUP(A13,[1]Sheet1!$A:$F,2,0)","v":"区直"},{"$f":"VLOOKUP(A13,[1]Sheet1!$A:$F,3,0)","v":"南宁市各县公安局"},{"$f":"VLOOKUP(A13,[1]Sheet1!$A:$F,4,0)","v":"大数据职位四"},"3:1"]
[45150030,3,6,{"$f":"VLOOKUP(A14,[1]Sheet1!$A:$F,2,0)","v":"区直"},{"$f":"VLOOKUP(A14,[1]Sheet1!$A:$F,3,0)","v":"市级公安机关"},{"$f":"VLOOKUP(A14,[1]Sheet1!$A:$F,4,0)","v":"网络安全职位一"},"2:1"]
[45150036,3,6,{"$f":"VLOOKUP(A15,[1]Sheet1!$A:$F,2,0)","v":"区直"},{"$f":"VLOOKUP(A15,[1]Sheet1!$A:$F,3,0)","v":"百色市各县公安局"},{"$f":"VLOOKUP(A15,[1]Sheet1!$A:$F,4,0)","v":"网络安全职位七"},"2:1"]
[45150043,6,6,{"$f":"VLOOKUP(A16,[1]Sheet1!$A:$F,2,0)","v":"区直"},{"$f":"VLOOKUP(A16,[1]Sheet1!$A:$F,3,0)","v":"桂林市各县公安局"},{"$f":"VLOOKUP(A16,[1]Sheet1!$A:$F,4,0)","v":"法医职位二"},"1:1"]
[45150079,2,6,{"$f":"VLOOKUP(A17,[1]Sheet1!$A:$F,2,0)","v":"区直"},{"$f":"VLOOKUP(A17,[1]Sheet1!$A:$F,3,0)","v":"防城港市东兴市公安局"},{"$f":"VLOOKUP(A17,[1]Sheet1!$A:$F,4,0)","v":"公安法制职位十七"},"3:1"]
[45150080,3,6,{"$f":"VLOOKUP(A18,[1]Sheet1!$A:$F,2,0)","v":"区直"},{"$f":"VLOOKUP(A18,[1]Sheet1!$A:$F,3,0)","v":"来宾市各县公安局"},{"$f":"VLOOKUP(A18,[1]Sheet1!$A:$F,4,0)","v":"公安法制职位十八"},"2:1"]
[45150171,1,6,{"$f":"VLOOKUP(A19,[1]Sheet1!$A:$F,2,0)","v":"区直"},{"$f":"VLOOKUP(A19,[1]Sheet1!$A:$F,3,0)","v":"英山监狱"},{"$f":"VLOOKUP(A19,[1]Sheet1!$A:$F,4,0)","v":"管教职位五"},"6:1"]
[45150196,1,6,{"$f":"VLOOKUP(A20,[1]Sheet1!$A:$F,2,0)","v":"区直"},{"$f":"VLOOKUP(A20,[1]Sheet1!$A:$F,3,0)","v":"中渡监狱"},{"$f":"VLOOKUP(A20,[1]Sheet1!$A:$F,4,0)","v":"狱医职位四"},"6:1"]
[45150200,2,6,{"$f":"VLOOKUP(A21,[1]Sheet1!$A:$F,2,0)","v":"区直"},{"$f":"VLOOKUP(A21,[1]Sheet1!$A:$F,3,0)","v":"桂林监狱"},{"$f":"VLOOKUP(A21,[1]Sheet1!$A:$F,4,0)","v":"管教职位三"},"3:1"]
[45150208,1,6,{"$f":"VLOOKUP(A22,[1]Sheet1!$A:$F,2,0)","v":"区直"},{"$f":"VLOOKUP(A22,[1]Sheet1!$A:$F,3,0)","v":"桂林监狱"},{"$f":"VLOOKUP(A22,[1]Sheet1!$A:$F,4,0)","v":"金融财会职位"},"6:1"]
[45150262,1,6,{"$f":"VLOOKUP(A23,[1]Sheet1!$A:$F,2,0)","v":"区直"},{"$f":"VLOOKUP(A23,[1]Sheet1!$A:$F,3,0)","v":"黎塘监狱"},{"$f":"VLOOKUP(A23,[1]Sheet1!$A:$F,4,0)","v":"档案管理职位二"},"6:1"]
[45150291,1,6,{"$f":"VLOOKUP(A24,[1]Sheet1!$A:$F,2,0)","v":"区直"},{"$f":"VLOOKUP(A24,[1]Sheet1!$A:$F,3,0)","v":"桂中监狱"},{"$f":"VLOOKUP(A24,[1]Sheet1!$A:$F,4,0)","v":"狱医职位三"},"6:1"]
[45150327,1,6,{"$f":"VLOOKUP(A25,[1]Sheet1!$A:$F,2,0)","v":"区直"},{"$f":"VLOOKUP(A25,[1]Sheet1!$A:$F,3,0)","v":"钟山监狱"},{"$f":"VLOOKUP(A25,[1]Sheet1!$A:$F,4,0)","v":"食品检验职位"},"6:1"]
[45150389,1,6,{"$f":"VLOOKUP(A26,[1]Sheet1!$A:$F,2,0)","v":"区直"},{"$f":"VLOOKUP(A26,[1]Sheet1!$A:$F,3,0)","v":"新康监狱"},{"$f":"VLOOKUP(A26,[1]Sheet1!$A:$F,4,0)","v":"狱医职位四"},"6:1"]
[45150418,2,6,{"$f":"VLOOKUP(A27,[1]Sheet1!$A:$F,2,0)","v":"区直"},{"$f":"VLOOKUP(A27,[1]Sheet1!$A:$F,3,0)","v":"自治区第二强制隔离戒毒所"},{"$f":"VLOOKUP(A27,[1]Sheet1!$A:$F,4,0)","v":"戒毒管理职位一"},"3:1"]
[45150425,1,6,{"$f":"VLOOKUP(A28,[1]Sheet1!$A:$F,2,0)","v":"区直"},{"$f":"VLOOKUP(A28,[1]Sheet1!$A:$F,3,0)","v":"自治区第三强制隔离戒毒所"},{"$f":"VLOOKUP(A28,[1]Sheet1!$A:$F,4,0)","v":"心理矫治职位"},"6:1"]
[45150426,2,6,{"$f":"VLOOKUP(A29,[1]Sheet1!$A:$F,2,0)","v":"区直"},{"$f":"VLOOKUP(A29,[1]Sheet1!$A:$F,3,0)","v":"自治区第四强制隔离戒毒所"},{"$f":"VLOOKUP(A29,[1]Sheet1!$A:$F,4,0)","v":"戒毒管理职位一"},"3:1"]
[45210047,1,6,{"$f":"VLOOKUP(A30,[1]Sheet1!$A:$F,2,0)","v":"崇左市"},{"$f":"VLOOKUP(A30,[1]Sheet1!$A:$F,3,0)","v":"崇左市江州区左州镇人民政府"},{"$f":"VLOOKUP(A30,[1]Sheet1!$A:$F,4,0)","v":"纪检监察职位"},"6:1"]
[45210071,1,6,{"$f":"VLOOKUP(A31,[1]Sheet1!$A:$F,2,0)","v":"崇左市"},{"$f":"VLOOKUP(A31,[1]Sheet1!$A:$F,3,0)","v":"崇左市扶绥县农业综合行政执法大队"},{"$f":"VLOOKUP(A31,[1]Sheet1!$A:$F,4,0)","v":"行政执法职位一"},"6:1"]
[45210115,2,6,{"$f":"VLOOKUP(A32,[1]Sheet1!$A:$F,2,0)","v":"崇左市"},{"$f":"VLOOKUP(A32,[1]Sheet1!$A:$F,3,0)","v":"崇左市宁明县城乡综合行政执法大队"},{"$f":"VLOOKUP(A32,[1]Sheet1!$A:$F,4,0)","v":"综合职位四"},"3:1"]
[45210131,1,6,{"$f":"VLOOKUP(A33,[1]Sheet1!$A:$F,2,0)","v":"崇左市"},{"$f":"VLOOKUP(A33,[1]Sheet1!$A:$F,3,0)","v":"崇左市中共龙州县委员会社会工作部"},{"$f":"VLOOKUP(A33,[1]Sheet1!$A:$F,4,0)","v":"综合管理职位"},"6:1"]
[45210149,1,6,{"$f":"VLOOKUP(A34,[1]Sheet1!$A:$F,2,0)","v":"崇左市"},{"$f":"VLOOKUP(A34,[1]Sheet1!$A:$F,3,0)","v":"崇左市龙州县市场监管执法稽查大队"},{"$f":"VLOOKUP(A34,[1]Sheet1!$A:$F,4,0)","v":"食品监督员职位一"},"6:1"]
[45210177,4,6,{"$f":"VLOOKUP(A35,[1]Sheet1!$A:$F,2,0)","v":"崇左市"},{"$f":"VLOOKUP(A35,[1]Sheet1!$A:$F,3,0)","v":"崇左市大新县公安局"},{"$f":"VLOOKUP(A35,[1]Sheet1!$A:$F,4,0)","v":"公安法制职位"},"2:1"]
[45210251,1,6,{"$f":"VLOOKUP(A36,[1]Sheet1!$A:$F,2,0)","v":"崇左市"},{"$f":"VLOOKUP(A36,[1]Sheet1!$A:$F,3,0)","v":"崇左市凭祥市公安局"},{"$f":"VLOOKUP(A36,[1]Sheet1!$A:$F,4,0)","v":"经济犯罪侦查职位二"},"6:1"]
[45210262,1,6,{"$f":"VLOOKUP(A37,[1]Sheet1!$A:$F,2,0)","v":"崇左市"},{"$f":"VLOOKUP(A37,[1]Sheet1!$A:$F,3,0)","v":"崇左市凭祥市应急管理综合行政执法大队"},{"$f":"VLOOKUP(A37,[1]Sheet1!$A:$F,4,0)","v":"安全生产监管职位"},"6:1"]
[45220001,1,6,{"$f":"VLOOKUP(A38,[1]Sheet1!$A:$F,2,0)","v":"来宾市"},{"$f":"VLOOKUP(A38,[1]Sheet1!$A:$F,3,0)","v":"来宾市忻城县人民检察院"},{"$f":"VLOOKUP(A38,[1]Sheet1!$A:$F,4,0)","v":"司法警察职位"},"6:1"]
[45220042,1,6,{"$f":"VLOOKUP(A39,[1]Sheet1!$A:$F,2,0)","v":"来宾市"},{"$f":"VLOOKUP(A39,[1]Sheet1!$A:$F,3,0)","v":"来宾市兴宾区应急管理局"},{"$f":"VLOOKUP(A39,[1]Sheet1!$A:$F,4,0)","v":"综合职位"},"6:1"]
[45220152,2,6,{"$f":"VLOOKUP(A40,[1]Sheet1!$A:$F,2,0)","v":"来宾市"},{"$f":"VLOOKUP(A40,[1]Sheet1!$A:$F,3,0)","v":"来宾市金秀瑶族自治县公安局"},{"$f":"VLOOKUP(A40,[1]Sheet1!$A:$F,4,0)","v":"治安管理职位一"},"3:1"]
[45220157,1,6,{"$f":"VLOOKUP(A41,[1]Sheet1!$A:$F,2,0)","v":"来宾市"},{"$f":"VLOOKUP(A41,[1]Sheet1!$A:$F,3,0)","v":"来宾市金秀瑶族自治县司法局基层司法所"},{"$f":"VLOOKUP(A41,[1]Sheet1!$A:$F,4,0)","v":"司法行政综合职位二"},"6:1"]
[45240002,1,6,{"$f":"VLOOKUP(A42,[1]Sheet1!$A:$F,2,0)","v":"贺州市"},{"$f":"VLOOKUP(A42,[1]Sheet1!$A:$F,3,0)","v":"贺州市昭平县人民检察院"},{"$f":"VLOOKUP(A42,[1]Sheet1!$A:$F,4,0)","v":"司法行政职位"},"6:1"]
[45240018,1,6,{"$f":"VLOOKUP(A43,[1]Sheet1!$A:$F,2,0)","v":"贺州市"},{"$f":"VLOOKUP(A43,[1]Sheet1!$A:$F,3,0)","v":"贺州市昭平县公安局"},{"$f":"VLOOKUP(A43,[1]Sheet1!$A:$F,4,0)","v":"经济犯罪侦查职位"},"6:1"]
[45240029,1,6,{"$f":"VLOOKUP(A44,[1]Sheet1!$A:$F,2,0)","v":"贺州市"},{"$f":"VLOOKUP(A44,[1]Sheet1!$A:$F,3,0)","v":"贺州市富川瑶族自治县公安局"},{"$f":"VLOOKUP(A44,[1]Sheet1!$A:$F,4,0)","v":"宣传职位"},"6:1"]
[45240030,1,6,{"$f":"VLOOKUP(A45,[1]Sheet1!$A:$F,2,0)","v":"贺州市"},{"$f":"VLOOKUP(A45,[1]Sheet1!$A:$F,3,0)","v":"贺州市市场监督管理局"},{"$f":"VLOOKUP(A45,[1]Sheet1!$A:$F,4,0)","v":"综合职位一"},"6:1"]
[45240077,2,6,{"$f":"VLOOKUP(A46,[1]Sheet1!$A:$F,2,0)","v":"贺州市"},{"$f":"VLOOKUP(A46,[1]Sheet1!$A:$F,3,0)","v":"贺州市昭平县纪委监委派驻机构"},{"$f":"VLOOKUP(A46,[1]Sheet1!$A:$F,4,0)","v":"纪检监察职位一"},"3:1"]
[45240101,1,6,{"$f":"VLOOKUP(A47,[1]Sheet1!$A:$F,2,0)","v":"贺州市"},{"$f":"VLOOKUP(A47,[1]Sheet1!$A:$F,3,0)","v":"贺州市昭平县自然资源局"},{"$f":"VLOOKUP(A47,[1]Sheet1!$A:$F,4,0)","v":"矿产资源管理职位"},"6:1"]
[45240124,1,6,{"$f":"VLOOKUP(A48,[1]Sheet1!$A:$F,2,0)","v":"贺州市"},{"$f":"VLOOKUP(A48,[1]Sheet1!$A:$F,3,0)","v":"贺州市钟山县人民政府办公室"},{"$f":"VLOOKUP(A48,[1]Sheet1!$A:$F,4,0)","v":"综合职位"},"6:1"]
[45240152,2,6,{"$f":"VLOOKUP(A49,[1]Sheet1!$A:$F,2,0)","v":"贺州市"},{"$f":"VLOOKUP(A49,[1]Sheet1!$A:$F,3,0)","v":"贺州市富川瑶族自治县纪委监委派驻机构"},{"$f":"VLOOKUP(A49,[1]Sheet1!$A:$F,4,0)","v":"纪检监察职位一"},"3:1"]
[45250078,1,6,{"$f":"VLOOKUP(A50,[1]Sheet1!$A:$F,2,0)","v":"玉林市"},{"$f":"VLOOKUP(A50,[1]Sheet1!$A:$F,3,0)","v":"玉林市玉州区大塘镇人民政府"},{"$f":"VLOOKUP(A50,[1]Sheet1!$A:$F,4,0)","v":"综合职位一"},"6:1"]
[45250080,1,6,{"$f":"VLOOKUP(A51,[1]Sheet1!$A:$F,2,0)","v":"玉林市"},{"$f":"VLOOKUP(A51,[1]Sheet1!$A:$F,3,0)","v":"玉林市玉州区仁厚镇人民政府"},{"$f":"VLOOKUP(A51,[1]Sheet1!$A:$F,4,0)","v":"综合职位一"},"6:1"]
[45250143,1,6,{"$f":"VLOOKUP(A52,[1]Sheet1!$A:$F,2,0)","v":"玉林市"},{"$f":"VLOOKUP(A52,[1]Sheet1!$A:$F,3,0)","v":"玉林市容县农业综合行政执法大队"},{"$f":"VLOOKUP(A52,[1]Sheet1!$A:$F,4,0)","v":"行政执法职位四"},"6:1"]
[45250149,1,6,{"$f":"VLOOKUP(A53,[1]Sheet1!$A:$F,2,0)","v":"玉林市"},{"$f":"VLOOKUP(A53,[1]Sheet1!$A:$F,3,0)","v":"玉林市容县应急管理综合行政执法大队"},{"$f":"VLOOKUP(A53,[1]Sheet1!$A:$F,4,0)","v":"行政执法职位二"},"6:1"]
[45250214,1,6,{"$f":"VLOOKUP(A54,[1]Sheet1!$A:$F,2,0)","v":"玉林市"},{"$f":"VLOOKUP(A54,[1]Sheet1!$A:$F,3,0)","v":"玉林市博白县司法局"},{"$f":"VLOOKUP(A54,[1]Sheet1!$A:$F,4,0)","v":"综合职位"},"6:1"]
[45250222,1,6,{"$f":"VLOOKUP(A55,[1]Sheet1!$A:$F,2,0)","v":"玉林市"},{"$f":"VLOOKUP(A55,[1]Sheet1!$A:$F,3,0)","v":"玉林市博白县农业综合行政执法大队"},{"$f":"VLOOKUP(A55,[1]Sheet1!$A:$F,4,0)","v":"行政执法职位二"},"6:1"]
[45250245,1,6,{"$f":"VLOOKUP(A56,[1]Sheet1!$A:$F,2,0)","v":"玉林市"},{"$f":"VLOOKUP(A56,[1]Sheet1!$A:$F,3,0)","v":"玉林市兴业县石南镇人民政府"},{"$f":"VLOOKUP(A56,[1]Sheet1!$A:$F,4,0)","v":"综合职位"},"6:1"]
[45260030,1,6,{"$f":"VLOOKUP(A57,[1]Sheet1!$A:$F,2,0)","v":"百色市"},{"$f":"VLOOKUP(A57,[1]Sheet1!$A:$F,3,0)","v":"百色市凌云县公安局"},{"$f":"VLOOKUP(A57,[1]Sheet1!$A:$F,4,0)","v":"刑事犯罪侦查职位"},"6:1"]
[45260133,1,6,{"$f":"VLOOKUP(A58,[1]Sheet1!$A:$F,2,0)","v":"百色市"},{"$f":"VLOOKUP(A58,[1]Sheet1!$A:$F,3,0)","v":"百色市平果市市场监督管理局马头市场监督管理所"},{"$f":"VLOOKUP(A58,[1]Sheet1!$A:$F,4,0)","v":"市场监督管理员职位一"},"6:1"]
[45260142,1,6,{"$f":"VLOOKUP(A59,[1]Sheet1!$A:$F,2,0)","v":"百色市"},{"$f":"VLOOKUP(A59,[1]Sheet1!$A:$F,3,0)","v":"百色市德保县纪委监委第八派驻纪检监察组"},{"$f":"VLOOKUP(A59,[1]Sheet1!$A:$F,4,0)","v":"纪检监察职位（一级科员）"},"6:1"]
[45260189,1,6,{"$f":"VLOOKUP(A60,[1]Sheet1!$A:$F,2,0)","v":"百色市"},{"$f":"VLOOKUP(A60,[1]Sheet1!$A:$F,3,0)","v":"百色市那坡县卫生健康局"},{"$f":"VLOOKUP(A60,[1]Sheet1!$A:$F,4,0)","v":"综合职位"},"6:1"]
[45260190,1,6,{"$f":"VLOOKUP(A61,[1]Sheet1!$A:$F,2,0)","v":"百色市"},{"$f":"VLOOKUP(A61,[1]Sheet1!$A:$F,3,0)","v":"百色市那坡县医疗保障局"},{"$f":"VLOOKUP(A61,[1]Sheet1!$A:$F,4,0)","v":"综合职位"},"6:1"]
[45270020,1,6,{"$f":"VLOOKUP(A62,[1]Sheet1!$A:$F,2,0)","v":"河池市"},{"$f":"VLOOKUP(A62,[1]Sheet1!$A:$F,3,0)","v":"河池市公安局交通警察支队"},{"$f":"VLOOKUP(A62,[1]Sheet1!$A:$F,4,0)","v":"科技信息化管理职位"},"6:1"]
[45270091,2,6,{"$f":"VLOOKUP(A63,[1]Sheet1!$A:$F,2,0)","v":"河池市"},{"$f":"VLOOKUP(A63,[1]Sheet1!$A:$F,3,0)","v":"河池市罗城仫佬族自治县公安局"},{"$f":"VLOOKUP(A63,[1]Sheet1!$A:$F,4,0)","v":"刑事犯罪侦查职位"},"3:1"]
[45270098,1,6,{"$f":"VLOOKUP(A64,[1]Sheet1!$A:$F,2,0)","v":"河池市"},{"$f":"VLOOKUP(A64,[1]Sheet1!$A:$F,3,0)","v":"河池市罗城仫佬族自治县农业综合行政执法大队"},{"$f":"VLOOKUP(A64,[1]Sheet1!$A:$F,4,0)","v":"综合职位一"},"6:1"]
[45010095,1,5,{"$f":"VLOOKUP(A65,[1]Sheet1!$A:$F,2,0)","v":"南宁市"},{"$f":"VLOOKUP(A65,[1]Sheet1!$A:$F,3,0)","v":"南宁市文化市场综合行政执法支队"},{"$f":"VLOOKUP(A65,[1]Sheet1!$A:$F,4,0)","v":"综合职位五"},"5:1"]
[45010204,1,5,{"$f":"VLOOKUP(A66,[1]Sheet1!$A:$F,2,0)","v":"南宁市"},{"$f":"VLOOKUP(A66,[1]Sheet1!$A:$F,3,0)","v":"南宁市西乡塘区综合行政执法队"},{"$f":"VLOOKUP(A66,[1]Sheet1!$A:$F,4,0)","v":"综合职位六（一级科员）"},"5:1"]
[45010279,1,5,{"$f":"VLOOKUP(A67,[1]Sheet1!$A:$F,2,0)","v":"南宁市"},{"$f":"VLOOKUP(A67,[1]Sheet1!$A:$F,3,0)","v":"南宁市武鸣区宁武镇人民政府"},{"$f":"VLOOKUP(A67,[1]Sheet1!$A:$F,4,0)","v":"人民武装干事职位"},{"$f":"ROUND(C67/B67,0)&\":\"&\"1\"","v":"5:1"}]
[45010330,1,5,{"$f":"VLOOKUP(A68,[1]Sheet1!$A:$F,2,0)","v":"南宁市"},{"$f":"VLOOKUP(A68,[1]Sheet1!$A:$F,3,0)","v":"南宁市马山县纪委监委"},{"$f":"VLOOKUP(A68,[1]Sheet1!$A:$F,4,0)","v":"综合职位一（一级科员）"},"5:1"]
[45010382,1,5,{"$f":"VLOOKUP(A69,[1]Sheet1!$A:$F,2,0)","v":"南宁市"},{"$f":"VLOOKUP(A69,[1]Sheet1!$A:$F,3,0)","v":"南宁市上林县木山乡人民政府"},{"$f":"VLOOKUP(A69,[1]Sheet1!$A:$F,4,0)","v":"综合职位三"},"5:1"]
[45010406,2,5,{"$f":"VLOOKUP(A70,[1]Sheet1!$A:$F,2,0)","v":"南宁市"},{"$f":"VLOOKUP(A70,[1]Sheet1!$A:$F,3,0)","v":"南宁市宾阳县公安局"},{"$f":"VLOOKUP(A70,[1]Sheet1!$A:$F,4,0)","v":"治安管理职位三"},"3:1"]
[45010422,1,5,{"$f":"VLOOKUP(A71,[1]Sheet1!$A:$F,2,0)","v":"南宁市"},{"$f":"VLOOKUP(A71,[1]Sheet1!$A:$F,3,0)","v":"中共南宁市横州市委员会办公室"},{"$f":"VLOOKUP(A71,[1]Sheet1!$A:$F,4,0)","v":"综合职位二"},"5:1"]
[45020126,1,5,{"$f":"VLOOKUP(A72,[1]Sheet1!$A:$F,2,0)","v":"柳州市"},{"$f":"VLOOKUP(A72,[1]Sheet1!$A:$F,3,0)","v":"柳州市柳北区司法局"},{"$f":"VLOOKUP(A72,[1]Sheet1!$A:$F,4,0)","v":"综合职位一"},"5:1"]
[45020128,1,5,{"$f":"VLOOKUP(A73,[1]Sheet1!$A:$F,2,0)","v":"柳州市"},{"$f":"VLOOKUP(A73,[1]Sheet1!$A:$F,3,0)","v":"柳州市柳北区财政局"},{"$f":"VLOOKUP(A73,[1]Sheet1!$A:$F,4,0)","v":"综合职位"},"5:1"]
[45020193,1,5,{"$f":"VLOOKUP(A74,[1]Sheet1!$A:$F,2,0)","v":"柳州市"},{"$f":"VLOOKUP(A74,[1]Sheet1!$A:$F,3,0)","v":"柳州市柳城县纪委监委派驻机构"},{"$f":"VLOOKUP(A74,[1]Sheet1!$A:$F,4,0)","v":"综合职位一"},"5:1"]
[45030003,1,5,{"$f":"VLOOKUP(A75,[1]Sheet1!$A:$F,2,0)","v":"桂林市"},{"$f":"VLOOKUP(A75,[1]Sheet1!$A:$F,3,0)","v":"桂林市纪委监委派驻纪检监察组"},{"$f":"VLOOKUP(A75,[1]Sheet1!$A:$F,4,0)","v":"综合职位三"},"5:1"]
[45030043,1,5,{"$f":"VLOOKUP(A76,[1]Sheet1!$A:$F,2,0)","v":"桂林市"},{"$f":"VLOOKUP(A76,[1]Sheet1!$A:$F,3,0)","v":"桂林市公安局"},{"$f":"VLOOKUP(A76,[1]Sheet1!$A:$F,4,0)","v":"宣传职位一"},"5:1"]
[45030062,2,5,{"$f":"VLOOKUP(A77,[1]Sheet1!$A:$F,2,0)","v":"桂林市"},{"$f":"VLOOKUP(A77,[1]Sheet1!$A:$F,3,0)","v":"桂林市平乐县公安局"},{"$f":"VLOOKUP(A77,[1]Sheet1!$A:$F,4,0)","v":"经济犯罪侦查职位"},"3:1"]
[45030101,1,5,{"$f":"VLOOKUP(A78,[1]Sheet1!$A:$F,2,0)","v":"桂林市"},{"$f":"VLOOKUP(A78,[1]Sheet1!$A:$F,3,0)","v":"桂林市信访局"},{"$f":"VLOOKUP(A78,[1]Sheet1!$A:$F,4,0)","v":"综合职位"},"5:1"]
[45030113,1,5,{"$f":"VLOOKUP(A79,[1]Sheet1!$A:$F,2,0)","v":"桂林市"},{"$f":"VLOOKUP(A79,[1]Sheet1!$A:$F,3,0)","v":"桂林市临桂区司法局"},{"$f":"VLOOKUP(A79,[1]Sheet1!$A:$F,4,0)","v":"综合职位"},"5:1"]
[45030184,1,5,{"$f":"VLOOKUP(A80,[1]Sheet1!$A:$F,2,0)","v":"桂林市"},{"$f":"VLOOKUP(A80,[1]Sheet1!$A:$F,3,0)","v":"桂林市灵川县司法局"},{"$f":"VLOOKUP(A80,[1]Sheet1!$A:$F,4,0)","v":"综合职位一"},"5:1"]
[45030185,1,5,{"$f":"VLOOKUP(A81,[1]Sheet1!$A:$F,2,0)","v":"桂林市"},{"$f":"VLOOKUP(A81,[1]Sheet1!$A:$F,3,0)","v":"桂林市灵川县司法局"},{"$f":"VLOOKUP(A81,[1]Sheet1!$A:$F,4,0)","v":"综合职位二"},"5:1"]
[45030187,1,5,{"$f":"VLOOKUP(A82,[1]Sheet1!$A:$F,2,0)","v":"桂林市"},{"$f":"VLOOKUP(A82,[1]Sheet1!$A:$F,3,0)","v":"桂林市灵川县司法局三街司法所"},{"$f":"VLOOKUP(A82,[1]Sheet1!$A:$F,4,0)","v":"综合职位"},"5:1"]
[45030213,1,5,{"$f":"VLOOKUP(A83,[1]Sheet1!$A:$F,2,0)","v":"桂林市"},{"$f":"VLOOKUP(A83,[1]Sheet1!$A:$F,3,0)","v":"桂林市灵川县海洋乡人民政府"},{"$f":"VLOOKUP(A83,[1]Sheet1!$A:$F,4,0)","v":"综合职位一"},"5:1"]
[45030371,1,5,{"$f":"VLOOKUP(A84,[1]Sheet1!$A:$F,2,0)","v":"桂林市"},{"$f":"VLOOKUP(A84,[1]Sheet1!$A:$F,3,0)","v":"桂林市资源县纪委监委"},{"$f":"VLOOKUP(A84,[1]Sheet1!$A:$F,4,0)","v":"综合职位一"},"5:1"]
[45030373,1,5,{"$f":"VLOOKUP(A85,[1]Sheet1!$A:$F,2,0)","v":"桂林市"},{"$f":"VLOOKUP(A85,[1]Sheet1!$A:$F,3,0)","v":"桂林市资源县纪委监委"},{"$f":"VLOOKUP(A85,[1]Sheet1!$A:$F,4,0)","v":"综合职位三"},"5:1"]
[45030408,1,5,{"$f":"VLOOKUP(A86,[1]Sheet1!$A:$F,2,0)","v":"桂林市"},{"$f":"VLOOKUP(A86,[1]Sheet1!$A:$F,3,0)","v":"桂林市资源县中峰镇人民政府"},{"$f":"VLOOKUP(A86,[1]Sheet1!$A:$F,4,0)","v":"综合职位二"},"5:1"]
[45030409,1,5,{"$f":"VLOOKUP(A87,[1]Sheet1!$A:$F,2,0)","v":"桂林市"},{"$f":"VLOOKUP(A87,[1]Sheet1!$A:$F,3,0)","v":"桂林市资源县中峰镇人民政府"},{"$f":"VLOOKUP(A87,[1]Sheet1!$A:$F,4,0)","v":"综合职位三"},"5:1"]
[45030437,1,5,{"$f":"VLOOKUP(A88,[1]Sheet1!$A:$F,2,0)","v":"桂林市"},{"$f":"VLOOKUP(A88,[1]Sheet1!$A:$F,3,0)","v":"桂林市平乐县农业农村局"},{"$f":"VLOOKUP(A88,[1]Sheet1!$A:$F,4,0)","v":"综合职位一"},"5:1"]
[45030463,1,5,{"$f":"VLOOKUP(A89,[1]Sheet1!$A:$F,2,0)","v":"桂林市"},{"$f":"VLOOKUP(A89,[1]Sheet1!$A:$F,3,0)","v":"桂林市荔浦市纪委监委"},{"$f":"VLOOKUP(A89,[1]Sheet1!$A:$F,4,0)","v":"综合职位二"},"5:1"]
[45040034,1,5,{"$f":"VLOOKUP(A90,[1]Sheet1!$A:$F,2,0)","v":"梧州市"},{"$f":"VLOOKUP(A90,[1]Sheet1!$A:$F,3,0)","v":"梧州市社会保险事业管理中心"},{"$f":"VLOOKUP(A90,[1]Sheet1!$A:$F,4,0)","v":"综合职位一"},"5:1"]
[45040035,1,5,{"$f":"VLOOKUP(A91,[1]Sheet1!$A:$F,2,0)","v":"梧州市"},{"$f":"VLOOKUP(A91,[1]Sheet1!$A:$F,3,0)","v":"梧州市社会保险事业管理中心"},{"$f":"VLOOKUP(A91,[1]Sheet1!$A:$F,4,0)","v":"综合职位二"},"5:1"]
[45040058,1,5,{"$f":"VLOOKUP(A92,[1]Sheet1!$A:$F,2,0)","v":"梧州市"},{"$f":"VLOOKUP(A92,[1]Sheet1!$A:$F,3,0)","v":"梧州市苍梧县公安局"},{"$f":"VLOOKUP(A92,[1]Sheet1!$A:$F,4,0)","v":"治安管理职位二"},"5:1"]
[45040082,1,5,{"$f":"VLOOKUP(A93,[1]Sheet1!$A:$F,2,0)","v":"梧州市"},{"$f":"VLOOKUP(A93,[1]Sheet1!$A:$F,3,0)","v":"梧州市苍梧县木双镇人民政府"},{"$f":"VLOOKUP(A93,[1]Sheet1!$A:$F,4,0)","v":"乡镇综合管理职位"},"5:1"]
[45040127,1,5,{"$f":"VLOOKUP(A94,[1]Sheet1!$A:$F,2,0)","v":"梧州市"},{"$f":"VLOOKUP(A94,[1]Sheet1!$A:$F,3,0)","v":"梧州市岑溪市水汶镇人民政府"},{"$f":"VLOOKUP(A94,[1]Sheet1!$A:$F,4,0)","v":"乡村振兴职位"},"5:1"]
[45040154,1,5,{"$f":"VLOOKUP(A95,[1]Sheet1!$A:$F,2,0)","v":"梧州市"},{"$f":"VLOOKUP(A95,[1]Sheet1!$A:$F,3,0)","v":"梧州市藤县公安局"},{"$f":"VLOOKUP(A95,[1]Sheet1!$A:$F,4,0)","v":"刑事犯罪侦查职位三"},"5:1"]
[45040259,1,5,{"$f":"VLOOKUP(A96,[1]Sheet1!$A:$F,2,0)","v":"梧州市"},{"$f":"VLOOKUP(A96,[1]Sheet1!$A:$F,3,0)","v":"梧州市长洲区城市管理综合行政执法大队"},{"$f":"VLOOKUP(A96,[1]Sheet1!$A:$F,4,0)","v":"行政执法职位一"},"5:1"]
[45050024,1,5,{"$f":"VLOOKUP(A97,[1]Sheet1!$A:$F,2,0)","v":"北海市"},{"$f":"VLOOKUP(A97,[1]Sheet1!$A:$F,3,0)","v":"北海市海城区市场监督管理局"},{"$f":"VLOOKUP(A97,[1]Sheet1!$A:$F,4,0)","v":"综合职位五（一级科员）"},"5:1"]
[45060084,1,5,{"$f":"VLOOKUP(A98,[1]Sheet1!$A:$F,2,0)","v":"防城港市"},{"$f":"VLOOKUP(A98,[1]Sheet1!$A:$F,3,0)","v":"防城港市上思县公安局"},{"$f":"VLOOKUP(A98,[1]Sheet1!$A:$F,4,0)","v":"监所管理职位"},"5:1"]
[45060099,1,5,{"$f":"VLOOKUP(A99,[1]Sheet1!$A:$F,2,0)","v":"防城港市"},{"$f":"VLOOKUP(A99,[1]Sheet1!$A:$F,3,0)","v":"中共防城港市东兴市纪律检查委员会东兴市监察委员会"},{"$f":"VLOOKUP(A99,[1]Sheet1!$A:$F,4,0)","v":"纪检监察职位一"},"5:1"]
[45080001,2,5,{"$f":"VLOOKUP(A100,[1]Sheet1!$A:$F,2,0)","v":"贵港市"},{"$f":"VLOOKUP(A100,[1]Sheet1!$A:$F,3,0)","v":"贵港市平南县人民法院"},{"$f":"VLOOKUP(A100,[1]Sheet1!$A:$F,4,0)","v":"司法警察职位一"},"3:1"]
[45080023,1,5,{"$f":"VLOOKUP(A101,[1]Sheet1!$A:$F,2,0)","v":"贵港市"},{"$f":"VLOOKUP(A101,[1]Sheet1!$A:$F,3,0)","v":"贵港市社会保险事业管理中心"},{"$f":"VLOOKUP(A101,[1]Sheet1!$A:$F,4,0)","v":"综合管理职位一"},"5:1"]
[45080080,1,5,{"$f":"VLOOKUP(A102,[1]Sheet1!$A:$F,2,0)","v":"贵港市"},{"$f":"VLOOKUP(A102,[1]Sheet1!$A:$F,3,0)","v":"贵港市平南县公安局"},{"$f":"VLOOKUP(A102,[1]Sheet1!$A:$F,4,0)","v":"监所管理职位"},"5:1"]
[45150044,2,5,{"$f":"VLOOKUP(A103,[1]Sheet1!$A:$F,2,0)","v":"区直"},{"$f":"VLOOKUP(A103,[1]Sheet1!$A:$F,3,0)","v":"防城港市各县公安局"},{"$f":"VLOOKUP(A103,[1]Sheet1!$A:$F,4,0)","v":"法医职位三"},"3:1"]
[45150051,1,5,{"$f":"VLOOKUP(A104,[1]Sheet1!$A:$F,2,0)","v":"区直"},{"$f":"VLOOKUP(A104,[1]Sheet1!$A:$F,3,0)","v":"北海市合浦县公安局"},{"$f":"VLOOKUP(A104,[1]Sheet1!$A:$F,4,0)","v":"法医职位十"},"5:1"]
[45150081,8,5,{"$f":"VLOOKUP(A105,[1]Sheet1!$A:$F,2,0)","v":"区直"},{"$f":"VLOOKUP(A105,[1]Sheet1!$A:$F,3,0)","v":"桂林市各县公安局"},{"$f":"VLOOKUP(A105,[1]Sheet1!$A:$F,4,0)","v":"公安法制职位十九"},"1:1"]
[45150112,1,5,{"$f":"VLOOKUP(A106,[1]Sheet1!$A:$F,2,0)","v":"区直"},{"$f":"VLOOKUP(A106,[1]Sheet1!$A:$F,3,0)","v":"自治区人工影响天气办公室"},{"$f":"VLOOKUP(A106,[1]Sheet1!$A:$F,4,0)","v":"业务技术职位"},"5:1"]
[45150165,2,5,{"$f":"VLOOKUP(A107,[1]Sheet1!$A:$F,2,0)","v":"区直"},{"$f":"VLOOKUP(A107,[1]Sheet1!$A:$F,3,0)","v":"崇左水文中心"},{"$f":"VLOOKUP(A107,[1]Sheet1!$A:$F,4,0)","v":"水文监测职位二"},"3:1"]
[45150257,1,5,{"$f":"VLOOKUP(A108,[1]Sheet1!$A:$F,2,0)","v":"区直"},{"$f":"VLOOKUP(A108,[1]Sheet1!$A:$F,3,0)","v":"柳州监狱"},{"$f":"VLOOKUP(A108,[1]Sheet1!$A:$F,4,0)","v":"文艺教导职位"},"5:1"]
[45150290,1,5,{"$f":"VLOOKUP(A109,[1]Sheet1!$A:$F,2,0)","v":"区直"},{"$f":"VLOOKUP(A109,[1]Sheet1!$A:$F,3,0)","v":"桂中监狱"},{"$f":"VLOOKUP(A109,[1]Sheet1!$A:$F,4,0)","v":"狱医职位二"},"5:1"]
[45150295,1,5,{"$f":"VLOOKUP(A110,[1]Sheet1!$A:$F,2,0)","v":"区直"},{"$f":"VLOOKUP(A110,[1]Sheet1!$A:$F,3,0)","v":"柳城监狱"},{"$f":"VLOOKUP(A110,[1]Sheet1!$A:$F,4,0)","v":"管教职位四"},"5:1"]
[45150296,1,5,{"$f":"VLOOKUP(A111,[1]Sheet1!$A:$F,2,0)","v":"区直"},{"$f":"VLOOKUP(A111,[1]Sheet1!$A:$F,3,0)","v":"柳城监狱"},{"$f":"VLOOKUP(A111,[1]Sheet1!$A:$F,4,0)","v":"管教职位五"},"5:1"]
[45150330,2,5,{"$f":"VLOOKUP(A112,[1]Sheet1!$A:$F,2,0)","v":"区直"},{"$f":"VLOOKUP(A112,[1]Sheet1!$A:$F,3,0)","v":"钟山监狱"},{"$f":"VLOOKUP(A112,[1]Sheet1!$A:$F,4,0)","v":"狱医职位"},"3:1"]
[45150354,1,5,{"$f":"VLOOKUP(A113,[1]Sheet1!$A:$F,2,0)","v":"区直"},{"$f":"VLOOKUP(A113,[1]Sheet1!$A:$F,3,0)","v":"鹿州监狱"},{"$f":"VLOOKUP(A113,[1]Sheet1!$A:$F,4,0)","v":"档案管理职位"},"5:1"]
[45150357,1,5,{"$f":"VLOOKUP(A114,[1]Sheet1!$A:$F,2,0)","v":"区直"},{"$f":"VLOOKUP(A114,[1]Sheet1!$A:$F,3,0)","v":"鹿州监狱"},{"$f":"VLOOKUP(A114,[1]Sheet1!$A:$F,4,0)","v":"管教职位三"},"5:1"]
[45150372,1,5,{"$f":"VLOOKUP(A115,[1]Sheet1!$A:$F,2,0)","v":"区直"},{"$f":"VLOOKUP(A115,[1]Sheet1!$A:$F,3,0)","v":"未成年犯管教所（邕州监狱）"},{"$f":"VLOOKUP(A115,[1]Sheet1!$A:$F,4,0)","v":"狱医职位三"},"5:1"]
[45150432,2,5,{"$f":"VLOOKUP(A116,[1]Sheet1!$A:$F,2,0)","v":"区直"},{"$f":"VLOOKUP(A116,[1]Sheet1!$A:$F,3,0)","v":"自治区第五强制隔离戒毒所"},{"$f":"VLOOKUP(A116,[1]Sheet1!$A:$F,4,0)","v":"戒毒管理职位三"},"3:1"]
[45150434,1,5,{"$f":"VLOOKUP(A117,[1]Sheet1!$A:$F,2,0)","v":"区直"},{"$f":"VLOOKUP(A117,[1]Sheet1!$A:$F,3,0)","v":"自治区第五强制隔离戒毒所"},{"$f":"VLOOKUP(A117,[1]Sheet1!$A:$F,4,0)","v":"金融财会职位"},"5:1"]
[45150443,1,5,{"$f":"VLOOKUP(A118,[1]Sheet1!$A:$F,2,0)","v":"区直"},{"$f":"VLOOKUP(A118,[1]Sheet1!$A:$F,3,0)","v":"自治区第六强制隔离戒毒所"},{"$f":"VLOOKUP(A118,[1]Sheet1!$A:$F,4,0)","v":"戒毒医务职位二"},"5:1"]
[45210014,1,5,{"$f":"VLOOKUP(A119,[1]Sheet1!$A:$F,2,0)","v":"崇左市"},{"$f":"VLOOKUP(A119,[1]Sheet1!$A:$F,3,0)","v":"崇左市司法局"},{"$f":"VLOOKUP(A119,[1]Sheet1!$A:$F,4,0)","v":"综合行政职位二"},"5:1"]
[45210070,1,5,{"$f":"VLOOKUP(A120,[1]Sheet1!$A:$F,2,0)","v":"崇左市"},{"$f":"VLOOKUP(A120,[1]Sheet1!$A:$F,3,0)","v":"崇左市扶绥县司法局中东司法所"},{"$f":"VLOOKUP(A120,[1]Sheet1!$A:$F,4,0)","v":"司法助理员职位"},"5:1"]
[45210088,1,5,{"$f":"VLOOKUP(A121,[1]Sheet1!$A:$F,2,0)","v":"崇左市"},{"$f":"VLOOKUP(A121,[1]Sheet1!$A:$F,3,0)","v":"崇左市中共宁明县纪律检查委员会"},{"$f":"VLOOKUP(A121,[1]Sheet1!$A:$F,4,0)","v":"纪检监察职位"},"5:1"]
[45210090,1,5,{"$f":"VLOOKUP(A122,[1]Sheet1!$A:$F,2,0)","v":"崇左市"},{"$f":"VLOOKUP(A122,[1]Sheet1!$A:$F,3,0)","v":"崇左市宁明县纪委监委驻县发展和改革局纪检监察组"},{"$f":"VLOOKUP(A122,[1]Sheet1!$A:$F,4,0)","v":"纪检监察职位"},"5:1"]
[45210116,2,5,{"$f":"VLOOKUP(A123,[1]Sheet1!$A:$F,2,0)","v":"崇左市"},{"$f":"VLOOKUP(A123,[1]Sheet1!$A:$F,3,0)","v":"崇左市宁明县城乡综合行政执法大队"},{"$f":"VLOOKUP(A123,[1]Sheet1!$A:$F,4,0)","v":"综合职位五"},"3:1"]
[45210139,1,5,{"$f":"VLOOKUP(A124,[1]Sheet1!$A:$F,2,0)","v":"崇左市"},{"$f":"VLOOKUP(A124,[1]Sheet1!$A:$F,3,0)","v":"崇左市龙州县司法局上龙司法所"},{"$f":"VLOOKUP(A124,[1]Sheet1!$A:$F,4,0)","v":"司法行政人员职位"},"5:1"]
[45210202,1,5,{"$f":"VLOOKUP(A125,[1]Sheet1!$A:$F,2,0)","v":"崇左市"},{"$f":"VLOOKUP(A125,[1]Sheet1!$A:$F,3,0)","v":"崇左市天等县纪委监委派驻纪检监察组"},{"$f":"VLOOKUP(A125,[1]Sheet1!$A:$F,4,0)","v":"纪检监察职位一"},"5:1"]
[45210206,2,5,{"$f":"VLOOKUP(A126,[1]Sheet1!$A:$F,2,0)","v":"崇左市"},{"$f":"VLOOKUP(A126,[1]Sheet1!$A:$F,3,0)","v":"崇左市天等县公安局"},{"$f":"VLOOKUP(A126,[1]Sheet1!$A:$F,4,0)","v":"治安管理职位一"},"3:1"]
[45210220,2,5,{"$f":"VLOOKUP(A127,[1]Sheet1!$A:$F,2,0)","v":"崇左市"},{"$f":"VLOOKUP(A127,[1]Sheet1!$A:$F,3,0)","v":"崇左市天等县各乡镇人民政府"},{"$f":"VLOOKUP(A127,[1]Sheet1!$A:$F,4,0)","v":"纪检干事职位"},"3:1"]
[45220127,1,5,{"$f":"VLOOKUP(A128,[1]Sheet1!$A:$F,2,0)","v":"来宾市"},{"$f":"VLOOKUP(A128,[1]Sheet1!$A:$F,3,0)","v":"来宾市武宣县司法局"},{"$f":"VLOOKUP(A128,[1]Sheet1!$A:$F,4,0)","v":"综合职位二"},"5:1"]
[45220179,1,5,{"$f":"VLOOKUP(A129,[1]Sheet1!$A:$F,2,0)","v":"来宾市"},{"$f":"VLOOKUP(A129,[1]Sheet1!$A:$F,3,0)","v":"来宾市合山市纪委监委派驻纪检监察组"},{"$f":"VLOOKUP(A129,[1]Sheet1!$A:$F,4,0)","v":"纪检监察职位一·"},"5:1"]
[45220193,1,5,{"$f":"VLOOKUP(A130,[1]Sheet1!$A:$F,2,0)","v":"来宾市"},{"$f":"VLOOKUP(A130,[1]Sheet1!$A:$F,3,0)","v":"来宾市合山市公安局"},{"$f":"VLOOKUP(A130,[1]Sheet1!$A:$F,4,0)","v":"刑事犯罪侦查职位"},"5:1"]
[45220194,1,5,{"$f":"VLOOKUP(A131,[1]Sheet1!$A:$F,2,0)","v":"来宾市"},{"$f":"VLOOKUP(A131,[1]Sheet1!$A:$F,3,0)","v":"来宾市合山市司法局"},{"$f":"VLOOKUP(A131,[1]Sheet1!$A:$F,4,0)","v":"司法行政职位"},{"$f":"ROUND(C131/B131,0)&\":\"&\"1\"","v":"5:1"}]
[45240006,1,5,{"$f":"VLOOKUP(A132,[1]Sheet1!$A:$F,2,0)","v":"贺州市"},{"$f":"VLOOKUP(A132,[1]Sheet1!$A:$F,3,0)","v":"贺州市昭平县人民法院"},{"$f":"VLOOKUP(A132,[1]Sheet1!$A:$F,4,0)","v":"司法警察职位"},"5:1"]
[45240046,1,5,{"$f":"VLOOKUP(A133,[1]Sheet1!$A:$F,2,0)","v":"贺州市"},{"$f":"VLOOKUP(A133,[1]Sheet1!$A:$F,3,0)","v":"贺州市八步区司法局信都司法所"},{"$f":"VLOOKUP(A133,[1]Sheet1!$A:$F,4,0)","v":"基层司法职位"},"5:1"]
[45240115,1,5,{"$f":"VLOOKUP(A134,[1]Sheet1!$A:$F,2,0)","v":"贺州市"},{"$f":"VLOOKUP(A134,[1]Sheet1!$A:$F,3,0)","v":"贺州市昭平县木格乡人民政府"},{"$f":"VLOOKUP(A134,[1]Sheet1!$A:$F,4,0)","v":"基层综合职位"},"5:1"]
[45240161,1,5,{"$f":"VLOOKUP(A135,[1]Sheet1!$A:$F,2,0)","v":"贺州市"},{"$f":"VLOOKUP(A135,[1]Sheet1!$A:$F,3,0)","v":"贺州市富川瑶族自治县司法局"},{"$f":"VLOOKUP(A135,[1]Sheet1!$A:$F,4,0)","v":"综合职位"},"5:1"]
[45240186,1,5,{"$f":"VLOOKUP(A136,[1]Sheet1!$A:$F,2,0)","v":"贺州市"},{"$f":"VLOOKUP(A136,[1]Sheet1!$A:$F,3,0)","v":"贺州市平桂区公会镇人民政府"},{"$f":"VLOOKUP(A136,[1]Sheet1!$A:$F,4,0)","v":"人民武装干事职位"},"5:1"]
[45250008,1,5,{"$f":"VLOOKUP(A137,[1]Sheet1!$A:$F,2,0)","v":"玉林市"},{"$f":"VLOOKUP(A137,[1]Sheet1!$A:$F,3,0)","v":"玉林市博白县人民法院"},{"$f":"VLOOKUP(A137,[1]Sheet1!$A:$F,4,0)","v":"司法警察职位"},"5:1"]
[45250045,1,5,{"$f":"VLOOKUP(A138,[1]Sheet1!$A:$F,2,0)","v":"玉林市"},{"$f":"VLOOKUP(A138,[1]Sheet1!$A:$F,3,0)","v":"玉林市玉州区工业信息化和科学技术局"},{"$f":"VLOOKUP(A138,[1]Sheet1!$A:$F,4,0)","v":"综合职位"},"5:1"]
[45250086,1,5,{"$f":"VLOOKUP(A139,[1]Sheet1!$A:$F,2,0)","v":"玉林市"},{"$f":"VLOOKUP(A139,[1]Sheet1!$A:$F,3,0)","v":"玉林市玉州区茂林镇人民政府"},{"$f":"VLOOKUP(A139,[1]Sheet1!$A:$F,4,0)","v":"综合职位三"},"5:1"]
[45250146,1,5,{"$f":"VLOOKUP(A140,[1]Sheet1!$A:$F,2,0)","v":"玉林市"},{"$f":"VLOOKUP(A140,[1]Sheet1!$A:$F,3,0)","v":"玉林市容县农业综合行政执法大队"},{"$f":"VLOOKUP(A140,[1]Sheet1!$A:$F,4,0)","v":"行政执法职位七"},"5:1"]
[45250208,1,5,{"$f":"VLOOKUP(A141,[1]Sheet1!$A:$F,2,0)","v":"玉林市"},{"$f":"VLOOKUP(A141,[1]Sheet1!$A:$F,3,0)","v":"玉林市博白县农业农村局"},{"$f":"VLOOKUP(A141,[1]Sheet1!$A:$F,4,0)","v":"综合职位三"},"5:1"]
[45250209,1,5,{"$f":"VLOOKUP(A142,[1]Sheet1!$A:$F,2,0)","v":"玉林市"},{"$f":"VLOOKUP(A142,[1]Sheet1!$A:$F,3,0)","v":"玉林市博白县农业农村局"},{"$f":"VLOOKUP(A142,[1]Sheet1!$A:$F,4,0)","v":"综合职位四"},"5:1"]
[45250211,1,5,{"$f":"VLOOKUP(A143,[1]Sheet1!$A:$F,2,0)","v":"玉林市"},{"$f":"VLOOKUP(A143,[1]Sheet1!$A:$F,3,0)","v":"玉林市博白县应急管理局"},{"$f":"VLOOKUP(A143,[1]Sheet1!$A:$F,4,0)","v":"综合职位一"},"5:1"]
[45260013,1,5,{"$f":"VLOOKUP(A144,[1]Sheet1!$A:$F,2,0)","v":"百色市"},{"$f":"VLOOKUP(A144,[1]Sheet1!$A:$F,3,0)","v":"百色市公安局"},{"$f":"VLOOKUP(A144,[1]Sheet1!$A:$F,4,0)","v":"外语及少数民族语言翻译职位二"},"5:1"]
[45260029,1,5,{"$f":"VLOOKUP(A145,[1]Sheet1!$A:$F,2,0)","v":"百色市"},{"$f":"VLOOKUP(A145,[1]Sheet1!$A:$F,3,0)","v":"百色市凌云县公安局"},{"$f":"VLOOKUP(A145,[1]Sheet1!$A:$F,4,0)","v":"交通管理职位"},"5:1"]
[45260165,1,5,{"$f":"VLOOKUP(A146,[1]Sheet1!$A:$F,2,0)","v":"百色市"},{"$f":"VLOOKUP(A146,[1]Sheet1!$A:$F,3,0)","v":"百色市靖西市武平司法所"},{"$f":"VLOOKUP(A146,[1]Sheet1!$A:$F,4,0)","v":"综合职位（一级科员）"},"5:1"]
[45260235,1,5,{"$f":"VLOOKUP(A147,[1]Sheet1!$A:$F,2,0)","v":"百色市"},{"$f":"VLOOKUP(A147,[1]Sheet1!$A:$F,3,0)","v":"百色市乐业县花坪镇人民政府"},{"$f":"VLOOKUP(A147,[1]Sheet1!$A:$F,4,0)","v":"财政经济办公室职位（一级科员）"},"5:1"]
[45260297,1,5,{"$f":"VLOOKUP(A148,[1]Sheet1!$A:$F,2,0)","v":"百色市"},{"$f":"VLOOKUP(A148,[1]Sheet1!$A:$F,3,0)","v":"百色市隆林各族自治县猪场乡人民政府"},{"$f":"VLOOKUP(A148,[1]Sheet1!$A:$F,4,0)","v":"武装干事职位（一级科员）"},"5:1"]
[45270037,1,5,{"$f":"VLOOKUP(A149,[1]Sheet1!$A:$F,2,0)","v":"河池市"},{"$f":"VLOOKUP(A149,[1]Sheet1!$A:$F,3,0)","v":"河池市文化市场综合行政执法支队"},{"$f":"VLOOKUP(A149,[1]Sheet1!$A:$F,4,0)","v":"综合职位一"},"5:1"]
[45270111,1,5,{"$f":"VLOOKUP(A150,[1]Sheet1!$A:$F,2,0)","v":"河池市"},{"$f":"VLOOKUP(A150,[1]Sheet1!$A:$F,3,0)","v":"河池市罗城仫佬族自治县怀群镇人民政府"},{"$f":"VLOOKUP(A150,[1]Sheet1!$A:$F,4,0)","v":"综合职位"},"5:1"]
[45270156,1,5,{"$f":"VLOOKUP(A151,[1]Sheet1!$A:$F,2,0)","v":"河池市"},{"$f":"VLOOKUP(A151,[1]Sheet1!$A:$F,3,0)","v":"中共河池市南丹县委员会组织部"},{"$f":"VLOOKUP(A151,[1]Sheet1!$A:$F,4,0)","v":"综合职位一"},"5:1"]
[45270160,1,5,{"$f":"VLOOKUP(A152,[1]Sheet1!$A:$F,2,0)","v":"河池市"},{"$f":"VLOOKUP(A152,[1]Sheet1!$A:$F,3,0)","v":"河池市南丹县纪委监委"},{"$f":"VLOOKUP(A152,[1]Sheet1!$A:$F,4,0)","v":"综合职位三"},"5:1"]
[45270164,2,5,{"$f":"VLOOKUP(A153,[1]Sheet1!$A:$F,2,0)","v":"河池市"},{"$f":"VLOOKUP(A153,[1]Sheet1!$A:$F,3,0)","v":"河池市南丹县部分县直单位"},{"$f":"VLOOKUP(A153,[1]Sheet1!$A:$F,4,0)","v":"综合职位一"},"3:1"]
[45270169,1,5,{"$f":"VLOOKUP(A154,[1]Sheet1!$A:$F,2,0)","v":"河池市"},{"$f":"VLOOKUP(A154,[1]Sheet1!$A:$F,3,0)","v":"河池市南丹县公安局"},{"$f":"VLOOKUP(A154,[1]Sheet1!$A:$F,4,0)","v":"人事管理职位"},"5:1"]
[45270172,1,5,{"$f":"VLOOKUP(A155,[1]Sheet1!$A:$F,2,0)","v":"河池市"},{"$f":"VLOOKUP(A155,[1]Sheet1!$A:$F,3,0)","v":"河池市南丹县司法局"},{"$f":"VLOOKUP(A155,[1]Sheet1!$A:$F,4,0)","v":"综合职位三"},"5:1"]
[45270188,1,5,{"$f":"VLOOKUP(A156,[1]Sheet1!$A:$F,2,0)","v":"河池市"},{"$f":"VLOOKUP(A156,[1]Sheet1!$A:$F,3,0)","v":"河池市南丹县罗富镇人民政府"},{"$f":"VLOOKUP(A156,[1]Sheet1!$A:$F,4,0)","v":"综合职位"},"5:1"]
[45270267,1,5,{"$f":"VLOOKUP(A157,[1]Sheet1!$A:$F,2,0)","v":"河池市"},{"$f":"VLOOKUP(A157,[1]Sheet1!$A:$F,3,0)","v":"河池市巴马瑶族自治县东山乡人民政府"},{"$f":"VLOOKUP(A157,[1]Sheet1!$A:$F,4,0)","v":"综合职位"},"5:1"]
[45010093,1,4,{"$f":"VLOOKUP(A158,[1]Sheet1!$A:$F,2,0)","v":"南宁市"},{"$f":"VLOOKUP(A158,[1]Sheet1!$A:$F,3,0)","v":"南宁市文化市场综合行政执法支队"},{"$f":"VLOOKUP(A158,[1]Sheet1!$A:$F,4,0)","v":"综合职位三"},"4:1"]
[45010195,1,4,{"$f":"VLOOKUP(A159,[1]Sheet1!$A:$F,2,0)","v":"南宁市"},{"$f":"VLOOKUP(A159,[1]Sheet1!$A:$F,3,0)","v":"南宁市西乡塘区市场监督管理局"},{"$f":"VLOOKUP(A159,[1]Sheet1!$A:$F,4,0)","v":"新阳市场监督管理所职位（一级科员）"},"4:1"]
[45010203,1,4,{"$f":"VLOOKUP(A160,[1]Sheet1!$A:$F,2,0)","v":"南宁市"},{"$f":"VLOOKUP(A160,[1]Sheet1!$A:$F,3,0)","v":"南宁市西乡塘区综合行政执法队"},{"$f":"VLOOKUP(A160,[1]Sheet1!$A:$F,4,0)","v":"综合职位五（一级科员）"},"4:1"]
[45010302,1,4,{"$f":"VLOOKUP(A161,[1]Sheet1!$A:$F,2,0)","v":"南宁市"},{"$f":"VLOOKUP(A161,[1]Sheet1!$A:$F,3,0)","v":"南宁市隆安县公安局"},{"$f":"VLOOKUP(A161,[1]Sheet1!$A:$F,4,0)","v":"治安管理职位一"},"4:1"]
[45010378,1,4,{"$f":"VLOOKUP(A162,[1]Sheet1!$A:$F,2,0)","v":"南宁市"},{"$f":"VLOOKUP(A162,[1]Sheet1!$A:$F,3,0)","v":"南宁市上林县三里镇人民政府"},{"$f":"VLOOKUP(A162,[1]Sheet1!$A:$F,4,0)","v":"综合职位一"},"4:1"]
[45010381,1,4,{"$f":"VLOOKUP(A163,[1]Sheet1!$A:$F,2,0)","v":"南宁市"},{"$f":"VLOOKUP(A163,[1]Sheet1!$A:$F,3,0)","v":"南宁市上林县木山乡人民政府"},{"$f":"VLOOKUP(A163,[1]Sheet1!$A:$F,4,0)","v":"综合职位二"},"4:1"]
[45020022,1,4,{"$f":"VLOOKUP(A164,[1]Sheet1!$A:$F,2,0)","v":"柳州市"},{"$f":"VLOOKUP(A164,[1]Sheet1!$A:$F,3,0)","v":"柳州市司法局"},{"$f":"VLOOKUP(A164,[1]Sheet1!$A:$F,4,0)","v":"综合管理职位一"},"4:1"]
[45020196,2,4,{"$f":"VLOOKUP(A165,[1]Sheet1!$A:$F,2,0)","v":"柳州市"},{"$f":"VLOOKUP(A165,[1]Sheet1!$A:$F,3,0)","v":"柳州市柳城县公安局"},{"$f":"VLOOKUP(A165,[1]Sheet1!$A:$F,4,0)","v":"公安法制职位"},"2:1"]
[45020201,2,4,{"$f":"VLOOKUP(A166,[1]Sheet1!$A:$F,2,0)","v":"柳州市"},{"$f":"VLOOKUP(A166,[1]Sheet1!$A:$F,3,0)","v":"柳州市柳城县司法局"},{"$f":"VLOOKUP(A166,[1]Sheet1!$A:$F,4,0)","v":"司法行政职位一"},"2:1"]
[45020203,1,4,{"$f":"VLOOKUP(A167,[1]Sheet1!$A:$F,2,0)","v":"柳州市"},{"$f":"VLOOKUP(A167,[1]Sheet1!$A:$F,3,0)","v":"柳州市柳城县司法局"},{"$f":"VLOOKUP(A167,[1]Sheet1!$A:$F,4,0)","v":"司法行政职位三"},"4:1"]
[45020339,1,4,{"$f":"VLOOKUP(A168,[1]Sheet1!$A:$F,2,0)","v":"柳州市"},{"$f":"VLOOKUP(A168,[1]Sheet1!$A:$F,3,0)","v":"柳州市三江侗族自治县农业综合行政执法大队"},{"$f":"VLOOKUP(A168,[1]Sheet1!$A:$F,4,0)","v":"综合职位二"},"4:1"]
[45030014,1,4,{"$f":"VLOOKUP(A169,[1]Sheet1!$A:$F,2,0)","v":"桂林市"},{"$f":"VLOOKUP(A169,[1]Sheet1!$A:$F,3,0)","v":"中共桂林市委员会市直属机关工作委员会"},{"$f":"VLOOKUP(A169,[1]Sheet1!$A:$F,4,0)","v":"综合职位"},"4:1"]
[45030079,1,4,{"$f":"VLOOKUP(A170,[1]Sheet1!$A:$F,2,0)","v":"桂林市"},{"$f":"VLOOKUP(A170,[1]Sheet1!$A:$F,3,0)","v":"桂林市交通运输局"},{"$f":"VLOOKUP(A170,[1]Sheet1!$A:$F,4,0)","v":"综合职位二"},"4:1"]
[45030141,1,4,{"$f":"VLOOKUP(A171,[1]Sheet1!$A:$F,2,0)","v":"桂林市"},{"$f":"VLOOKUP(A171,[1]Sheet1!$A:$F,3,0)","v":"桂林市叠彩区司法局"},{"$f":"VLOOKUP(A171,[1]Sheet1!$A:$F,4,0)","v":"司法行政职位一"},"4:1"]
[45030297,1,4,{"$f":"VLOOKUP(A172,[1]Sheet1!$A:$F,2,0)","v":"桂林市"},{"$f":"VLOOKUP(A172,[1]Sheet1!$A:$F,3,0)","v":"桂林市永福县永安乡人民政府"},{"$f":"VLOOKUP(A172,[1]Sheet1!$A:$F,4,0)","v":"综合职位"},"4:1"]
[45030398,1,4,{"$f":"VLOOKUP(A173,[1]Sheet1!$A:$F,2,0)","v":"桂林市"},{"$f":"VLOOKUP(A173,[1]Sheet1!$A:$F,3,0)","v":"桂林市资源县农业综合行政执法大队"},{"$f":"VLOOKUP(A173,[1]Sheet1!$A:$F,4,0)","v":"综合职位三"},"4:1"]
[45040059,1,4,{"$f":"VLOOKUP(A174,[1]Sheet1!$A:$F,2,0)","v":"梧州市"},{"$f":"VLOOKUP(A174,[1]Sheet1!$A:$F,3,0)","v":"梧州市苍梧县司法局"},{"$f":"VLOOKUP(A174,[1]Sheet1!$A:$F,4,0)","v":"办公室综合职位"},"4:1"]
[45040061,1,4,{"$f":"VLOOKUP(A175,[1]Sheet1!$A:$F,2,0)","v":"梧州市"},{"$f":"VLOOKUP(A175,[1]Sheet1!$A:$F,3,0)","v":"梧州市苍梧县司法局"},{"$f":"VLOOKUP(A175,[1]Sheet1!$A:$F,4,0)","v":"乡镇司法所职位二"},"4:1"]
[45040145,1,4,{"$f":"VLOOKUP(A176,[1]Sheet1!$A:$F,2,0)","v":"梧州市"},{"$f":"VLOOKUP(A176,[1]Sheet1!$A:$F,3,0)","v":"梧州市藤县纪委监委驻县公安局纪检监察组"},{"$f":"VLOOKUP(A176,[1]Sheet1!$A:$F,4,0)","v":"纪检监察职位"},"4:1"]
[45050016,2,4,{"$f":"VLOOKUP(A177,[1]Sheet1!$A:$F,2,0)","v":"北海市"},{"$f":"VLOOKUP(A177,[1]Sheet1!$A:$F,3,0)","v":"北海市公安局"},{"$f":"VLOOKUP(A177,[1]Sheet1!$A:$F,4,0)","v":"宣传职位"},"2:1"]
[45050033,1,4,{"$f":"VLOOKUP(A178,[1]Sheet1!$A:$F,2,0)","v":"北海市"},{"$f":"VLOOKUP(A178,[1]Sheet1!$A:$F,3,0)","v":"北海市文化市场综合行政执法支队"},{"$f":"VLOOKUP(A178,[1]Sheet1!$A:$F,4,0)","v":"行政执法职位一（一级科员）"},"4:1"]
[45050143,1,4,{"$f":"VLOOKUP(A179,[1]Sheet1!$A:$F,2,0)","v":"北海市"},{"$f":"VLOOKUP(A179,[1]Sheet1!$A:$F,3,0)","v":"北海市合浦县常乐镇人民政府"},{"$f":"VLOOKUP(A179,[1]Sheet1!$A:$F,4,0)","v":"武装干事职位（一级科员）"},"4:1"]
[45060116,1,4,{"$f":"VLOOKUP(A180,[1]Sheet1!$A:$F,2,0)","v":"防城港市"},{"$f":"VLOOKUP(A180,[1]Sheet1!$A:$F,3,0)","v":"防城港市东兴市司法局"},{"$f":"VLOOKUP(A180,[1]Sheet1!$A:$F,4,0)","v":"综合职位"},"4:1"]
[45080029,1,4,{"$f":"VLOOKUP(A181,[1]Sheet1!$A:$F,2,0)","v":"贵港市"},{"$f":"VLOOKUP(A181,[1]Sheet1!$A:$F,3,0)","v":"贵港市农业农村局"},{"$f":"VLOOKUP(A181,[1]Sheet1!$A:$F,4,0)","v":"综合管理职位"},"4:1"]
[45150040,1,4,{"$f":"VLOOKUP(A182,[1]Sheet1!$A:$F,2,0)","v":"区直"},{"$f":"VLOOKUP(A182,[1]Sheet1!$A:$F,3,0)","v":"来宾市合山市公安局"},{"$f":"VLOOKUP(A182,[1]Sheet1!$A:$F,4,0)","v":"网络安全职位十一"},"4:1"]
[45150082,4,4,{"$f":"VLOOKUP(A183,[1]Sheet1!$A:$F,2,0)","v":"区直"},{"$f":"VLOOKUP(A183,[1]Sheet1!$A:$F,3,0)","v":"百色市各县公安局"},{"$f":"VLOOKUP(A183,[1]Sheet1!$A:$F,4,0)","v":"公安法制职位二十"},"1:1"]
[45150095,2,4,{"$f":"VLOOKUP(A184,[1]Sheet1!$A:$F,2,0)","v":"区直"},{"$f":"VLOOKUP(A184,[1]Sheet1!$A:$F,3,0)","v":"自治区卫生健康委"},{"$f":"VLOOKUP(A184,[1]Sheet1!$A:$F,4,0)","v":"医疗管理与应急处置职位一"},"2:1"]
[45150183,1,4,{"$f":"VLOOKUP(A185,[1]Sheet1!$A:$F,2,0)","v":"区直"},{"$f":"VLOOKUP(A185,[1]Sheet1!$A:$F,3,0)","v":"中渡监狱"},{"$f":"VLOOKUP(A185,[1]Sheet1!$A:$F,4,0)","v":"管教职位二"},"4:1"]
[45150187,1,4,{"$f":"VLOOKUP(A186,[1]Sheet1!$A:$F,2,0)","v":"区直"},{"$f":"VLOOKUP(A186,[1]Sheet1!$A:$F,3,0)","v":"中渡监狱"},{"$f":"VLOOKUP(A186,[1]Sheet1!$A:$F,4,0)","v":"管教职位六"},"4:1"]
[45150199,1,4,{"$f":"VLOOKUP(A187,[1]Sheet1!$A:$F,2,0)","v":"区直"},{"$f":"VLOOKUP(A187,[1]Sheet1!$A:$F,3,0)","v":"桂林监狱"},{"$f":"VLOOKUP(A187,[1]Sheet1!$A:$F,4,0)","v":"管教职位二"},"4:1"]
[45150278,1,4,{"$f":"VLOOKUP(A188,[1]Sheet1!$A:$F,2,0)","v":"区直"},{"$f":"VLOOKUP(A188,[1]Sheet1!$A:$F,3,0)","v":"桂中监狱"},{"$f":"VLOOKUP(A188,[1]Sheet1!$A:$F,4,0)","v":"档案管理职位"},"4:1"]
[45150317,1,4,{"$f":"VLOOKUP(A189,[1]Sheet1!$A:$F,2,0)","v":"区直"},{"$f":"VLOOKUP(A189,[1]Sheet1!$A:$F,3,0)","v":"西江监狱"},{"$f":"VLOOKUP(A189,[1]Sheet1!$A:$F,4,0)","v":"狱医职位三"},"4:1"]
[45150328,2,4,{"$f":"VLOOKUP(A190,[1]Sheet1!$A:$F,2,0)","v":"区直"},{"$f":"VLOOKUP(A190,[1]Sheet1!$A:$F,3,0)","v":"钟山监狱"},{"$f":"VLOOKUP(A190,[1]Sheet1!$A:$F,4,0)","v":"心理矫正职位"},"2:1"]
[45150413,1,4,{"$f":"VLOOKUP(A191,[1]Sheet1!$A:$F,2,0)","v":"区直"},{"$f":"VLOOKUP(A191,[1]Sheet1!$A:$F,3,0)","v":"自治区第一强制隔离戒毒所"},{"$f":"VLOOKUP(A191,[1]Sheet1!$A:$F,4,0)","v":"戒毒管理职位六"},"4:1"]
[45210060,2,4,{"$f":"VLOOKUP(A192,[1]Sheet1!$A:$F,2,0)","v":"崇左市"},{"$f":"VLOOKUP(A192,[1]Sheet1!$A:$F,3,0)","v":"崇左市扶绥县公安局"},{"$f":"VLOOKUP(A192,[1]Sheet1!$A:$F,4,0)","v":"治安管理职位二"},"2:1"]
[45210151,1,4,{"$f":"VLOOKUP(A193,[1]Sheet1!$A:$F,2,0)","v":"崇左市"},{"$f":"VLOOKUP(A193,[1]Sheet1!$A:$F,3,0)","v":"崇左市龙州县市场监管执法稽查大队"},{"$f":"VLOOKUP(A193,[1]Sheet1!$A:$F,4,0)","v":"行政执法职位"},"4:1"]
[45210180,4,4,{"$f":"VLOOKUP(A194,[1]Sheet1!$A:$F,2,0)","v":"崇左市"},{"$f":"VLOOKUP(A194,[1]Sheet1!$A:$F,3,0)","v":"崇左市大新县公安局"},{"$f":"VLOOKUP(A194,[1]Sheet1!$A:$F,4,0)","v":"治安管理职位"},"1:1"]
[45210260,1,4,{"$f":"VLOOKUP(A195,[1]Sheet1!$A:$F,2,0)","v":"崇左市"},{"$f":"VLOOKUP(A195,[1]Sheet1!$A:$F,3,0)","v":"崇左市凭祥市司法局凭祥司法所"},{"$f":"VLOOKUP(A195,[1]Sheet1!$A:$F,4,0)","v":"基层司法所职位"},{"$f":"ROUND(C195/B195,0)&\":\"&\"1\"","v":"4:1"}]
[45210274,1,4,{"$f":"VLOOKUP(A196,[1]Sheet1!$A:$F,2,0)","v":"崇左市"},{"$f":"VLOOKUP(A196,[1]Sheet1!$A:$F,3,0)","v":"崇左市凭祥市友谊镇人民政府"},{"$f":"VLOOKUP(A196,[1]Sheet1!$A:$F,4,0)","v":"综合职位"},"4:1"]
[45220060,1,4,{"$f":"VLOOKUP(A197,[1]Sheet1!$A:$F,2,0)","v":"来宾市"},{"$f":"VLOOKUP(A197,[1]Sheet1!$A:$F,3,0)","v":"来宾市忻城县纪委监委派驻纪检监察组"},{"$f":"VLOOKUP(A197,[1]Sheet1!$A:$F,4,0)","v":"纪检监察职位二"},"4:1"]
[45220063,1,4,{"$f":"VLOOKUP(A198,[1]Sheet1!$A:$F,2,0)","v":"来宾市"},{"$f":"VLOOKUP(A198,[1]Sheet1!$A:$F,3,0)","v":"来宾市忻城县市场监督管理局"},{"$f":"VLOOKUP(A198,[1]Sheet1!$A:$F,4,0)","v":"行政执法职位"},"4:1"]
[45220065,2,4,{"$f":"VLOOKUP(A199,[1]Sheet1!$A:$F,2,0)","v":"来宾市"},{"$f":"VLOOKUP(A199,[1]Sheet1!$A:$F,3,0)","v":"来宾市忻城县公安局"},{"$f":"VLOOKUP(A199,[1]Sheet1!$A:$F,4,0)","v":"治安管理职位一"},"2:1"]
[45220107,1,4,{"$f":"VLOOKUP(A200,[1]Sheet1!$A:$F,2,0)","v":"来宾市"},{"$f":"VLOOKUP(A200,[1]Sheet1!$A:$F,3,0)","v":"来宾市象州县农业综合行政执法大队"},{"$f":"VLOOKUP(A200,[1]Sheet1!$A:$F,4,0)","v":"监督管理职位二"},"4:1"]
[45220126,1,4,{"$f":"VLOOKUP(A201,[1]Sheet1!$A:$F,2,0)","v":"来宾市"},{"$f":"VLOOKUP(A201,[1]Sheet1!$A:$F,3,0)","v":"来宾市武宣县司法局"},{"$f":"VLOOKUP(A201,[1]Sheet1!$A:$F,4,0)","v":"综合职位一"},"4:1"]
[45220143,1,4,{"$f":"VLOOKUP(A202,[1]Sheet1!$A:$F,2,0)","v":"来宾市"},{"$f":"VLOOKUP(A202,[1]Sheet1!$A:$F,3,0)","v":"来宾市武宣县三里镇人民政府"},{"$f":"VLOOKUP(A202,[1]Sheet1!$A:$F,4,0)","v":"综合职位"},"4:1"]
[45220156,1,4,{"$f":"VLOOKUP(A203,[1]Sheet1!$A:$F,2,0)","v":"来宾市"},{"$f":"VLOOKUP(A203,[1]Sheet1!$A:$F,3,0)","v":"来宾市金秀瑶族自治县司法局基层司法所"},{"$f":"VLOOKUP(A203,[1]Sheet1!$A:$F,4,0)","v":"司法行政综合职位一"},"4:1"]
[45220161,1,4,{"$f":"VLOOKUP(A204,[1]Sheet1!$A:$F,2,0)","v":"来宾市"},{"$f":"VLOOKUP(A204,[1]Sheet1!$A:$F,3,0)","v":"来宾市金秀瑶族自治县司法局"},{"$f":"VLOOKUP(A204,[1]Sheet1!$A:$F,4,0)","v":"司法行政综合职位三"},"4:1"]
[45220192,1,4,{"$f":"VLOOKUP(A205,[1]Sheet1!$A:$F,2,0)","v":"来宾市"},{"$f":"VLOOKUP(A205,[1]Sheet1!$A:$F,3,0)","v":"来宾市合山市公安局"},{"$f":"VLOOKUP(A205,[1]Sheet1!$A:$F,4,0)","v":"党务工作职位"},"4:1"]
[45240024,1,4,{"$f":"VLOOKUP(A206,[1]Sheet1!$A:$F,2,0)","v":"贺州市"},{"$f":"VLOOKUP(A206,[1]Sheet1!$A:$F,3,0)","v":"贺州市钟山县公安局"},{"$f":"VLOOKUP(A206,[1]Sheet1!$A:$F,4,0)","v":"宣传职位二"},"4:1"]
[45240078,2,4,{"$f":"VLOOKUP(A207,[1]Sheet1!$A:$F,2,0)","v":"贺州市"},{"$f":"VLOOKUP(A207,[1]Sheet1!$A:$F,3,0)","v":"贺州市昭平县纪委监委派驻机构"},{"$f":"VLOOKUP(A207,[1]Sheet1!$A:$F,4,0)","v":"纪检监察职位二"},"2:1"]
[45240088,1,4,{"$f":"VLOOKUP(A208,[1]Sheet1!$A:$F,2,0)","v":"贺州市"},{"$f":"VLOOKUP(A208,[1]Sheet1!$A:$F,3,0)","v":"贺州市昭平县农业农村局"},{"$f":"VLOOKUP(A208,[1]Sheet1!$A:$F,4,0)","v":"养殖业管理职位"},"4:1"]
[45240154,1,4,{"$f":"VLOOKUP(A209,[1]Sheet1!$A:$F,2,0)","v":"贺州市"},{"$f":"VLOOKUP(A209,[1]Sheet1!$A:$F,3,0)","v":"中共富川瑶族自治县委员会党校"},{"$f":"VLOOKUP(A209,[1]Sheet1!$A:$F,4,0)","v":"综合职位"},"4:1"]
[45240190,1,4,{"$f":"VLOOKUP(A210,[1]Sheet1!$A:$F,2,0)","v":"贺州市"},{"$f":"VLOOKUP(A210,[1]Sheet1!$A:$F,3,0)","v":"贺州市平桂区水口镇人民政府"},{"$f":"VLOOKUP(A210,[1]Sheet1!$A:$F,4,0)","v":"基层综合职位二"},"4:1"]
[45250223,1,4,{"$f":"VLOOKUP(A211,[1]Sheet1!$A:$F,2,0)","v":"玉林市"},{"$f":"VLOOKUP(A211,[1]Sheet1!$A:$F,3,0)","v":"玉林市博白县农业综合行政执法大队"},{"$f":"VLOOKUP(A211,[1]Sheet1!$A:$F,4,0)","v":"行政执法职位三"},"4:1"]
[45260005,1,4,{"$f":"VLOOKUP(A212,[1]Sheet1!$A:$F,2,0)","v":"百色市"},{"$f":"VLOOKUP(A212,[1]Sheet1!$A:$F,3,0)","v":"百色市德保县人民法院"},{"$f":"VLOOKUP(A212,[1]Sheet1!$A:$F,4,0)","v":"司法行政职位（一级科员）"},"4:1"]
[45260034,1,4,{"$f":"VLOOKUP(A213,[1]Sheet1!$A:$F,2,0)","v":"百色市"},{"$f":"VLOOKUP(A213,[1]Sheet1!$A:$F,3,0)","v":"百色市乐业县公安局"},{"$f":"VLOOKUP(A213,[1]Sheet1!$A:$F,4,0)","v":"特警职位一"},"4:1"]
[45010421,1,3,{"$f":"VLOOKUP(A214,[1]Sheet1!$A:$F,2,0)","v":"南宁市"},{"$f":"VLOOKUP(A214,[1]Sheet1!$A:$F,3,0)","v":"中共南宁市横州市委员会办公室"},{"$f":"VLOOKUP(A214,[1]Sheet1!$A:$F,4,0)","v":"综合职位一"},"3:1"]
[45030078,1,3,{"$f":"VLOOKUP(A215,[1]Sheet1!$A:$F,2,0)","v":"桂林市"},{"$f":"VLOOKUP(A215,[1]Sheet1!$A:$F,3,0)","v":"桂林市交通运输局"},{"$f":"VLOOKUP(A215,[1]Sheet1!$A:$F,4,0)","v":"综合职位一"},"3:1"]
[45030186,1,3,{"$f":"VLOOKUP(A216,[1]Sheet1!$A:$F,2,0)","v":"桂林市"},{"$f":"VLOOKUP(A216,[1]Sheet1!$A:$F,3,0)","v":"桂林市灵川县司法局灵田司法所"},{"$f":"VLOOKUP(A216,[1]Sheet1!$A:$F,4,0)","v":"综合职位"},"3:1"]
[45030493,1,3,{"$f":"VLOOKUP(A217,[1]Sheet1!$A:$F,2,0)","v":"桂林市"},{"$f":"VLOOKUP(A217,[1]Sheet1!$A:$F,3,0)","v":"桂林市荔浦市蒲芦瑶族乡人民政府"},{"$f":"VLOOKUP(A217,[1]Sheet1!$A:$F,4,0)","v":"综合职位"},"3:1"]
[45040048,1,3,{"$f":"VLOOKUP(A218,[1]Sheet1!$A:$F,2,0)","v":"梧州市"},{"$f":"VLOOKUP(A218,[1]Sheet1!$A:$F,3,0)","v":"梧州市苍梧县纪委监委派驻机构"},{"$f":"VLOOKUP(A218,[1]Sheet1!$A:$F,4,0)","v":"纪检监察职位一"},"3:1"]
[45040060,1,3,{"$f":"VLOOKUP(A219,[1]Sheet1!$A:$F,2,0)","v":"梧州市"},{"$f":"VLOOKUP(A219,[1]Sheet1!$A:$F,3,0)","v":"梧州市苍梧县司法局"},{"$f":"VLOOKUP(A219,[1]Sheet1!$A:$F,4,0)","v":"乡镇司法所职位一"},"3:1"]
[45040229,1,3,{"$f":"VLOOKUP(A220,[1]Sheet1!$A:$F,2,0)","v":"梧州市"},{"$f":"VLOOKUP(A220,[1]Sheet1!$A:$F,3,0)","v":"梧州市万秀区市场监管综合行政执法大队"},{"$f":"VLOOKUP(A220,[1]Sheet1!$A:$F,4,0)","v":"综合行政执法职位一"},"3:1"]
[45060012,1,3,{"$f":"VLOOKUP(A221,[1]Sheet1!$A:$F,2,0)","v":"防城港市"},{"$f":"VLOOKUP(A221,[1]Sheet1!$A:$F,3,0)","v":"防城港市公安局"},{"$f":"VLOOKUP(A221,[1]Sheet1!$A:$F,4,0)","v":"外语及少数民族语言翻译职位二"},"3:1"]
[45060100,1,3,{"$f":"VLOOKUP(A222,[1]Sheet1!$A:$F,2,0)","v":"防城港市"},{"$f":"VLOOKUP(A222,[1]Sheet1!$A:$F,3,0)","v":"中共防城港市东兴市纪律检查委员会东兴市监察委员会"},{"$f":"VLOOKUP(A222,[1]Sheet1!$A:$F,4,0)","v":"纪检监察职位二"},"3:1"]
[45080004,1,3,{"$f":"VLOOKUP(A223,[1]Sheet1!$A:$F,2,0)","v":"贵港市"},{"$f":"VLOOKUP(A223,[1]Sheet1!$A:$F,3,0)","v":"贵港市桂平市人民法院"},{"$f":"VLOOKUP(A223,[1]Sheet1!$A:$F,4,0)","v":"司法警察职位"},"3:1"]
[45080019,1,3,{"$f":"VLOOKUP(A224,[1]Sheet1!$A:$F,2,0)","v":"贵港市"},{"$f":"VLOOKUP(A224,[1]Sheet1!$A:$F,3,0)","v":"贵港市司法局"},{"$f":"VLOOKUP(A224,[1]Sheet1!$A:$F,4,0)","v":"综合职位一"},"3:1"]
[45150047,4,3,{"$f":"VLOOKUP(A225,[1]Sheet1!$A:$F,2,0)","v":"区直"},{"$f":"VLOOKUP(A225,[1]Sheet1!$A:$F,3,0)","v":"来宾市各县公安局"},{"$f":"VLOOKUP(A225,[1]Sheet1!$A:$F,4,0)","v":"法医职位六"},"1:1"]
[45150197,1,3,{"$f":"VLOOKUP(A226,[1]Sheet1!$A:$F,2,0)","v":"区直"},{"$f":"VLOOKUP(A226,[1]Sheet1!$A:$F,3,0)","v":"桂林监狱"},{"$f":"VLOOKUP(A226,[1]Sheet1!$A:$F,4,0)","v":"档案管理职位"},"3:1"]
[45150303,2,3,{"$f":"VLOOKUP(A227,[1]Sheet1!$A:$F,2,0)","v":"区直"},{"$f":"VLOOKUP(A227,[1]Sheet1!$A:$F,3,0)","v":"柳城监狱"},{"$f":"VLOOKUP(A227,[1]Sheet1!$A:$F,4,0)","v":"狱医职位一"},"2:1"]
[45150316,1,3,{"$f":"VLOOKUP(A228,[1]Sheet1!$A:$F,2,0)","v":"区直"},{"$f":"VLOOKUP(A228,[1]Sheet1!$A:$F,3,0)","v":"西江监狱"},{"$f":"VLOOKUP(A228,[1]Sheet1!$A:$F,4,0)","v":"狱医职位二"},"3:1"]
[45150336,1,3,{"$f":"VLOOKUP(A229,[1]Sheet1!$A:$F,2,0)","v":"区直"},{"$f":"VLOOKUP(A229,[1]Sheet1!$A:$F,3,0)","v":"钦州监狱"},{"$f":"VLOOKUP(A229,[1]Sheet1!$A:$F,4,0)","v":"护理职位"},"3:1"]
[45150340,1,3,{"$f":"VLOOKUP(A230,[1]Sheet1!$A:$F,2,0)","v":"区直"},{"$f":"VLOOKUP(A230,[1]Sheet1!$A:$F,3,0)","v":"钦州监狱"},{"$f":"VLOOKUP(A230,[1]Sheet1!$A:$F,4,0)","v":"狱医职位二"},"3:1"]
[45150361,3,3,{"$f":"VLOOKUP(A231,[1]Sheet1!$A:$F,2,0)","v":"区直"},{"$f":"VLOOKUP(A231,[1]Sheet1!$A:$F,3,0)","v":"鹿州监狱"},{"$f":"VLOOKUP(A231,[1]Sheet1!$A:$F,4,0)","v":"狱医职位"},"1:1"]
[45150390,1,3,{"$f":"VLOOKUP(A232,[1]Sheet1!$A:$F,2,0)","v":"区直"},{"$f":"VLOOKUP(A232,[1]Sheet1!$A:$F,3,0)","v":"新康监狱"},{"$f":"VLOOKUP(A232,[1]Sheet1!$A:$F,4,0)","v":"狱医职位五"},"3:1"]
[45150447,1,3,{"$f":"VLOOKUP(A233,[1]Sheet1!$A:$F,2,0)","v":"区直"},{"$f":"VLOOKUP(A233,[1]Sheet1!$A:$F,3,0)","v":"自治区第七强制隔离戒毒所"},{"$f":"VLOOKUP(A233,[1]Sheet1!$A:$F,4,0)","v":"戒毒管理职位二"},"3:1"]
[45210011,1,3,{"$f":"VLOOKUP(A234,[1]Sheet1!$A:$F,2,0)","v":"崇左市"},{"$f":"VLOOKUP(A234,[1]Sheet1!$A:$F,3,0)","v":"崇左市宁明县人民检察院"},{"$f":"VLOOKUP(A234,[1]Sheet1!$A:$F,4,0)","v":"司法行政职位"},"3:1"]
[45210061,2,3,{"$f":"VLOOKUP(A235,[1]Sheet1!$A:$F,2,0)","v":"崇左市"},{"$f":"VLOOKUP(A235,[1]Sheet1!$A:$F,3,0)","v":"崇左市扶绥县公安局"},{"$f":"VLOOKUP(A235,[1]Sheet1!$A:$F,4,0)","v":"经济犯罪侦查职位"},"2:1"]
[45210135,1,3,{"$f":"VLOOKUP(A236,[1]Sheet1!$A:$F,2,0)","v":"崇左市"},{"$f":"VLOOKUP(A236,[1]Sheet1!$A:$F,3,0)","v":"崇左市龙州县公安局"},{"$f":"VLOOKUP(A236,[1]Sheet1!$A:$F,4,0)","v":"科技信息化管理职位"},"3:1"]
[45220026,1,3,{"$f":"VLOOKUP(A237,[1]Sheet1!$A:$F,2,0)","v":"来宾市"},{"$f":"VLOOKUP(A237,[1]Sheet1!$A:$F,3,0)","v":"来宾市公安局"},{"$f":"VLOOKUP(A237,[1]Sheet1!$A:$F,4,0)","v":"经济犯罪侦查职位"},"3:1"]
[45220148,1,3,{"$f":"VLOOKUP(A238,[1]Sheet1!$A:$F,2,0)","v":"来宾市"},{"$f":"VLOOKUP(A238,[1]Sheet1!$A:$F,3,0)","v":"来宾市金秀瑶族自治县公安局"},{"$f":"VLOOKUP(A238,[1]Sheet1!$A:$F,4,0)","v":"法医病理损伤检验职位"},"3:1"]
[45220149,1,3,{"$f":"VLOOKUP(A239,[1]Sheet1!$A:$F,2,0)","v":"来宾市"},{"$f":"VLOOKUP(A239,[1]Sheet1!$A:$F,3,0)","v":"来宾市金秀瑶族自治县公安局"},{"$f":"VLOOKUP(A239,[1]Sheet1!$A:$F,4,0)","v":"公安法制职位"},"3:1"]
[45220175,1,3,{"$f":"VLOOKUP(A240,[1]Sheet1!$A:$F,2,0)","v":"来宾市"},{"$f":"VLOOKUP(A240,[1]Sheet1!$A:$F,3,0)","v":"来宾市金秀瑶族自治县忠良乡人民政府"},{"$f":"VLOOKUP(A240,[1]Sheet1!$A:$F,4,0)","v":"综合职位"},"3:1"]
[45240003,1,3,{"$f":"VLOOKUP(A241,[1]Sheet1!$A:$F,2,0)","v":"贺州市"},{"$f":"VLOOKUP(A241,[1]Sheet1!$A:$F,3,0)","v":"贺州市富川瑶族自治县人民检察院"},{"$f":"VLOOKUP(A241,[1]Sheet1!$A:$F,4,0)","v":"司法行政职位"},"3:1"]
[45240122,1,3,{"$f":"VLOOKUP(A242,[1]Sheet1!$A:$F,2,0)","v":"贺州市"},{"$f":"VLOOKUP(A242,[1]Sheet1!$A:$F,3,0)","v":"贺州市钟山县纪委监委驻县委办公室纪检监察组"},{"$f":"VLOOKUP(A242,[1]Sheet1!$A:$F,4,0)","v":"纪检监察职位"},"3:1"]
[45250023,1,3,{"$f":"VLOOKUP(A243,[1]Sheet1!$A:$F,2,0)","v":"玉林市"},{"$f":"VLOOKUP(A243,[1]Sheet1!$A:$F,3,0)","v":"玉林市北流市公安局"},{"$f":"VLOOKUP(A243,[1]Sheet1!$A:$F,4,0)","v":"网络安全执法职位"},"3:1"]
[45250194,1,3,{"$f":"VLOOKUP(A244,[1]Sheet1!$A:$F,2,0)","v":"玉林市"},{"$f":"VLOOKUP(A244,[1]Sheet1!$A:$F,3,0)","v":"玉林市博白县发展和改革局"},{"$f":"VLOOKUP(A244,[1]Sheet1!$A:$F,4,0)","v":"综合职位一"},"3:1"]
[45260058,2,3,{"$f":"VLOOKUP(A245,[1]Sheet1!$A:$F,2,0)","v":"百色市"},{"$f":"VLOOKUP(A245,[1]Sheet1!$A:$F,3,0)","v":"百色市右江区司法局基层司法所"},{"$f":"VLOOKUP(A245,[1]Sheet1!$A:$F,4,0)","v":"司法助理员职位一（一级科员）"},"2:1"]
[45270039,1,3,{"$f":"VLOOKUP(A246,[1]Sheet1!$A:$F,2,0)","v":"河池市"},{"$f":"VLOOKUP(A246,[1]Sheet1!$A:$F,3,0)","v":"河池市文化市场综合行政执法支队"},{"$f":"VLOOKUP(A246,[1]Sheet1!$A:$F,4,0)","v":"综合职位三"},"3:1"]
[45270198,1,3,{"$f":"VLOOKUP(A247,[1]Sheet1!$A:$F,2,0)","v":"河池市"},{"$f":"VLOOKUP(A247,[1]Sheet1!$A:$F,3,0)","v":"河池市天峨县公安局"},{"$f":"VLOOKUP(A247,[1]Sheet1!$A:$F,4,0)","v":"刑事犯罪侦查职位"},"3:1"]
[45020001,1,2,{"$f":"VLOOKUP(A248,[1]Sheet1!$A:$F,2,0)","v":"柳州市"},{"$f":"VLOOKUP(A248,[1]Sheet1!$A:$F,3,0)","v":"柳州市纪委监委"},{"$f":"VLOOKUP(A248,[1]Sheet1!$A:$F,4,0)","v":"综合职位一"},"2:1"]
[45020002,1,2,{"$f":"VLOOKUP(A249,[1]Sheet1!$A:$F,2,0)","v":"柳州市"},{"$f":"VLOOKUP(A249,[1]Sheet1!$A:$F,3,0)","v":"柳州市纪委监委"},{"$f":"VLOOKUP(A249,[1]Sheet1!$A:$F,4,0)","v":"综合职位二"},"2:1"]
[45020198,1,2,{"$f":"VLOOKUP(A250,[1]Sheet1!$A:$F,2,0)","v":"柳州市"},{"$f":"VLOOKUP(A250,[1]Sheet1!$A:$F,3,0)","v":"柳州市柳城县公安局"},{"$f":"VLOOKUP(A250,[1]Sheet1!$A:$F,4,0)","v":"刑事犯罪侦查职位"},"2:1"]
[45020253,1,2,{"$f":"VLOOKUP(A251,[1]Sheet1!$A:$F,2,0)","v":"柳州市"},{"$f":"VLOOKUP(A251,[1]Sheet1!$A:$F,3,0)","v":"柳州市鹿寨县农业综合行政执法大队"},{"$f":"VLOOKUP(A251,[1]Sheet1!$A:$F,4,0)","v":"综合职位"},"2:1"]
[45150014,1,2,{"$f":"VLOOKUP(A252,[1]Sheet1!$A:$F,2,0)","v":"区直"},{"$f":"VLOOKUP(A252,[1]Sheet1!$A:$F,3,0)","v":"自治区鹿寨地区人民检察院"},{"$f":"VLOOKUP(A252,[1]Sheet1!$A:$F,4,0)","v":"司法警察职位"},"2:1"]
[45150045,3,2,{"$f":"VLOOKUP(A253,[1]Sheet1!$A:$F,2,0)","v":"区直"},{"$f":"VLOOKUP(A253,[1]Sheet1!$A:$F,3,0)","v":"玉林市各县公安局"},{"$f":"VLOOKUP(A253,[1]Sheet1!$A:$F,4,0)","v":"法医职位四"},"1:1"]
[45150083,4,2,{"$f":"VLOOKUP(A254,[1]Sheet1!$A:$F,2,0)","v":"区直"},{"$f":"VLOOKUP(A254,[1]Sheet1!$A:$F,3,0)","v":"河池市各县公安局"},{"$f":"VLOOKUP(A254,[1]Sheet1!$A:$F,4,0)","v":"公安法制职位二十一"},"1:1"]
[45150116,1,2,{"$f":"VLOOKUP(A255,[1]Sheet1!$A:$F,2,0)","v":"区直"},{"$f":"VLOOKUP(A255,[1]Sheet1!$A:$F,3,0)","v":"防城港市无线电监测中心"},{"$f":"VLOOKUP(A255,[1]Sheet1!$A:$F,4,0)","v":"技术与应用职位"},"2:1"]
[45150191,1,2,{"$f":"VLOOKUP(A256,[1]Sheet1!$A:$F,2,0)","v":"区直"},{"$f":"VLOOKUP(A256,[1]Sheet1!$A:$F,3,0)","v":"中渡监狱"},{"$f":"VLOOKUP(A256,[1]Sheet1!$A:$F,4,0)","v":"心理矫正职位"},"2:1"]
[45150193,1,2,{"$f":"VLOOKUP(A257,[1]Sheet1!$A:$F,2,0)","v":"区直"},{"$f":"VLOOKUP(A257,[1]Sheet1!$A:$F,3,0)","v":"中渡监狱"},{"$f":"VLOOKUP(A257,[1]Sheet1!$A:$F,4,0)","v":"狱医职位一"},"2:1"]
[45150247,1,2,{"$f":"VLOOKUP(A258,[1]Sheet1!$A:$F,2,0)","v":"区直"},{"$f":"VLOOKUP(A258,[1]Sheet1!$A:$F,3,0)","v":"北海监狱"},{"$f":"VLOOKUP(A258,[1]Sheet1!$A:$F,4,0)","v":"狱医职位一"},"2:1"]
[45150306,1,2,{"$f":"VLOOKUP(A259,[1]Sheet1!$A:$F,2,0)","v":"区直"},{"$f":"VLOOKUP(A259,[1]Sheet1!$A:$F,3,0)","v":"西江监狱"},{"$f":"VLOOKUP(A259,[1]Sheet1!$A:$F,4,0)","v":"档案管理职位"},{"$f":"ROUND(C259/B259,0)&\":\"&\"1\"","v":"2:1"}]
[45150346,1,2,{"$f":"VLOOKUP(A260,[1]Sheet1!$A:$F,2,0)","v":"区直"},{"$f":"VLOOKUP(A260,[1]Sheet1!$A:$F,3,0)","v":"梧州监狱"},{"$f":"VLOOKUP(A260,[1]Sheet1!$A:$F,4,0)","v":"管教职位六"},"2:1"]
[45150360,1,2,{"$f":"VLOOKUP(A261,[1]Sheet1!$A:$F,2,0)","v":"区直"},{"$f":"VLOOKUP(A261,[1]Sheet1!$A:$F,3,0)","v":"鹿州监狱"},{"$f":"VLOOKUP(A261,[1]Sheet1!$A:$F,4,0)","v":"心理矫正职位"},"2:1"]
[45150370,1,2,{"$f":"VLOOKUP(A262,[1]Sheet1!$A:$F,2,0)","v":"区直"},{"$f":"VLOOKUP(A262,[1]Sheet1!$A:$F,3,0)","v":"未成年犯管教所（邕州监狱）"},{"$f":"VLOOKUP(A262,[1]Sheet1!$A:$F,4,0)","v":"狱医职位一"},"2:1"]
[45150388,1,2,{"$f":"VLOOKUP(A263,[1]Sheet1!$A:$F,2,0)","v":"区直"},{"$f":"VLOOKUP(A263,[1]Sheet1!$A:$F,3,0)","v":"新康监狱"},{"$f":"VLOOKUP(A263,[1]Sheet1!$A:$F,4,0)","v":"狱医职位三"},"2:1"]
[45150420,1,2,{"$f":"VLOOKUP(A264,[1]Sheet1!$A:$F,2,0)","v":"区直"},{"$f":"VLOOKUP(A264,[1]Sheet1!$A:$F,3,0)","v":"自治区第二强制隔离戒毒所"},{"$f":"VLOOKUP(A264,[1]Sheet1!$A:$F,4,0)","v":"戒毒医务职位"},"2:1"]
[45150421,2,2,{"$f":"VLOOKUP(A265,[1]Sheet1!$A:$F,2,0)","v":"区直"},{"$f":"VLOOKUP(A265,[1]Sheet1!$A:$F,3,0)","v":"自治区第二强制隔离戒毒所"},{"$f":"VLOOKUP(A265,[1]Sheet1!$A:$F,4,0)","v":"心理矫治职位"},"1:1"]
[45150424,1,2,{"$f":"VLOOKUP(A266,[1]Sheet1!$A:$F,2,0)","v":"区直"},{"$f":"VLOOKUP(A266,[1]Sheet1!$A:$F,3,0)","v":"自治区第三强制隔离戒毒所"},{"$f":"VLOOKUP(A266,[1]Sheet1!$A:$F,4,0)","v":"戒毒医务职位"},"2:1"]
[45210013,1,2,{"$f":"VLOOKUP(A267,[1]Sheet1!$A:$F,2,0)","v":"崇左市"},{"$f":"VLOOKUP(A267,[1]Sheet1!$A:$F,3,0)","v":"崇左市司法局"},{"$f":"VLOOKUP(A267,[1]Sheet1!$A:$F,4,0)","v":"综合行政职位一"},"2:1"]
[45210022,1,2,{"$f":"VLOOKUP(A268,[1]Sheet1!$A:$F,2,0)","v":"崇左市"},{"$f":"VLOOKUP(A268,[1]Sheet1!$A:$F,3,0)","v":"崇左市应急管理综合行政执法支队"},{"$f":"VLOOKUP(A268,[1]Sheet1!$A:$F,4,0)","v":"行政执法职位一"},"2:1"]
[45210268,1,2,{"$f":"VLOOKUP(A269,[1]Sheet1!$A:$F,2,0)","v":"崇左市"},{"$f":"VLOOKUP(A269,[1]Sheet1!$A:$F,3,0)","v":"崇左市凭祥市市场监管执法稽查大队"},{"$f":"VLOOKUP(A269,[1]Sheet1!$A:$F,4,0)","v":"行政执法职位一"},"2:1"]
[45220008,1,2,{"$f":"VLOOKUP(A270,[1]Sheet1!$A:$F,2,0)","v":"来宾市"},{"$f":"VLOOKUP(A270,[1]Sheet1!$A:$F,3,0)","v":"来宾市忻城县人民法院"},{"$f":"VLOOKUP(A270,[1]Sheet1!$A:$F,4,0)","v":"司法警察职位"},"2:1"]
[45220019,1,2,{"$f":"VLOOKUP(A271,[1]Sheet1!$A:$F,2,0)","v":"来宾市"},{"$f":"VLOOKUP(A271,[1]Sheet1!$A:$F,3,0)","v":"来宾市财政投资评审中心"},{"$f":"VLOOKUP(A271,[1]Sheet1!$A:$F,4,0)","v":"预结算评审职位二"},"2:1"]
[45240012,1,2,{"$f":"VLOOKUP(A272,[1]Sheet1!$A:$F,2,0)","v":"贺州市"},{"$f":"VLOOKUP(A272,[1]Sheet1!$A:$F,3,0)","v":"贺州市公安局"},{"$f":"VLOOKUP(A272,[1]Sheet1!$A:$F,4,0)","v":"外语及少数民族语言翻译职位"},"2:1"]
[45240033,1,2,{"$f":"VLOOKUP(A273,[1]Sheet1!$A:$F,2,0)","v":"贺州市"},{"$f":"VLOOKUP(A273,[1]Sheet1!$A:$F,3,0)","v":"贺州市人防指挥信息保障中心"},{"$f":"VLOOKUP(A273,[1]Sheet1!$A:$F,4,0)","v":"发展改革综合业务职位一"},"2:1"]
[45240128,1,2,{"$f":"VLOOKUP(A274,[1]Sheet1!$A:$F,2,0)","v":"贺州市"},{"$f":"VLOOKUP(A274,[1]Sheet1!$A:$F,3,0)","v":"贺州市钟山县司法局两安司法所"},{"$f":"VLOOKUP(A274,[1]Sheet1!$A:$F,4,0)","v":"司法行政综合职位"},"2:1"]
[45270171,1,2,{"$f":"VLOOKUP(A275,[1]Sheet1!$A:$F,2,0)","v":"河池市"},{"$f":"VLOOKUP(A275,[1]Sheet1!$A:$F,3,0)","v":"河池市南丹县司法局"},{"$f":"VLOOKUP(A275,[1]Sheet1!$A:$F,4,0)","v":"综合职位二"},"2:1"]
[45060030,1,1,{"$f":"VLOOKUP(A276,[1]Sheet1!$A:$F,2,0)","v":"防城港市"},{"$f":"VLOOKUP(A276,[1]Sheet1!$A:$F,3,0)","v":"中共防城港市防城区纪律检查委员会防城港市防城区监察委员会"},{"$f":"VLOOKUP(A276,[1]Sheet1!$A:$F,4,0)","v":"纪检监察职位"},"1:1"]
[45150048,1,1,{"$f":"VLOOKUP(A277,[1]Sheet1!$A:$F,2,0)","v":"区直"},{"$f":"VLOOKUP(A277,[1]Sheet1!$A:$F,3,0)","v":"钦州市浦北县公安局"},{"$f":"VLOOKUP(A277,[1]Sheet1!$A:$F,4,0)","v":"法医职位七"},"1:1"]
[45150052,1,1,{"$f":"VLOOKUP(A278,[1]Sheet1!$A:$F,2,0)","v":"区直"},{"$f":"VLOOKUP(A278,[1]Sheet1!$A:$F,3,0)","v":"崇左市龙州县公安局"},{"$f":"VLOOKUP(A278,[1]Sheet1!$A:$F,4,0)","v":"法医职位十一"},"1:1"]
[45150059,1,1,{"$f":"VLOOKUP(A279,[1]Sheet1!$A:$F,2,0)","v":"区直"},{"$f":"VLOOKUP(A279,[1]Sheet1!$A:$F,3,0)","v":"防城港市公安局"},{"$f":"VLOOKUP(A279,[1]Sheet1!$A:$F,4,0)","v":"外语及少数民族语言翻译职位二"},"1:1"]
[45150084,1,1,{"$f":"VLOOKUP(A280,[1]Sheet1!$A:$F,2,0)","v":"区直"},{"$f":"VLOOKUP(A280,[1]Sheet1!$A:$F,3,0)","v":"梧州市藤县公安局"},{"$f":"VLOOKUP(A280,[1]Sheet1!$A:$F,4,0)","v":"公安法制职位二十二"},"1:1"]
[45150098,1,1,{"$f":"VLOOKUP(A281,[1]Sheet1!$A:$F,2,0)","v":"区直"},{"$f":"VLOOKUP(A281,[1]Sheet1!$A:$F,3,0)","v":"自治区疾控局"},{"$f":"VLOOKUP(A281,[1]Sheet1!$A:$F,4,0)","v":"疾病预防控制职位"},"1:1"]
[45150117,1,1,{"$f":"VLOOKUP(A282,[1]Sheet1!$A:$F,2,0)","v":"区直"},{"$f":"VLOOKUP(A282,[1]Sheet1!$A:$F,3,0)","v":"崇左市无线电监测中心"},{"$f":"VLOOKUP(A282,[1]Sheet1!$A:$F,4,0)","v":"技术与应用职位"},"1:1"]
[45150166,1,1,{"$f":"VLOOKUP(A283,[1]Sheet1!$A:$F,2,0)","v":"区直"},{"$f":"VLOOKUP(A283,[1]Sheet1!$A:$F,3,0)","v":"英山监狱"},{"$f":"VLOOKUP(A283,[1]Sheet1!$A:$F,4,0)","v":"档案管理职位"},"1:1"]
[45150194,1,1,{"$f":"VLOOKUP(A284,[1]Sheet1!$A:$F,2,0)","v":"区直"},{"$f":"VLOOKUP(A284,[1]Sheet1!$A:$F,3,0)","v":"中渡监狱"},{"$f":"VLOOKUP(A284,[1]Sheet1!$A:$F,4,0)","v":"狱医职位二"},"1:1"]
[45150387,1,1,{"$f":"VLOOKUP(A285,[1]Sheet1!$A:$F,2,0)","v":"区直"},{"$f":"VLOOKUP(A285,[1]Sheet1!$A:$F,3,0)","v":"新康监狱"},{"$f":"VLOOKUP(A285,[1]Sheet1!$A:$F,4,0)","v":"狱医职位二"},"1:1"]
[45150428,1,1,{"$f":"VLOOKUP(A286,[1]Sheet1!$A:$F,2,0)","v":"区直"},{"$f":"VLOOKUP(A286,[1]Sheet1!$A:$F,3,0)","v":"自治区第四强制隔离戒毒所"},{"$f":"VLOOKUP(A286,[1]Sheet1!$A:$F,4,0)","v":"戒毒医务职位"},"1:1"]
[45220018,1,1,{"$f":"VLOOKUP(A287,[1]Sheet1!$A:$F,2,0)","v":"来宾市"},{"$f":"VLOOKUP(A287,[1]Sheet1!$A:$F,3,0)","v":"来宾市财政投资评审中心"},{"$f":"VLOOKUP(A287,[1]Sheet1!$A:$F,4,0)","v":"预结算评审职位一"},"1:1"]
[45220091,1,1,{"$f":"VLOOKUP(A288,[1]Sheet1!$A:$F,2,0)","v":"来宾市"},{"$f":"VLOOKUP(A288,[1]Sheet1!$A:$F,3,0)","v":"来宾市象州县公安局"},{"$f":"VLOOKUP(A288,[1]Sheet1!$A:$F,4,0)","v":"公安法制职位"},"1:1"]
[45240126,1,1,{"$f":"VLOOKUP(A289,[1]Sheet1!$A:$F,2,0)","v":"贺州市"},{"$f":"VLOOKUP(A289,[1]Sheet1!$A:$F,3,0)","v":"贺州市钟山县司法局燕塘司法所"},{"$f":"VLOOKUP(A289,[1]Sheet1!$A:$F,4,0)","v":"司法行政综合职位"},"1:1"]
[45150049,1,0,{"$f":"VLOOKUP(A290,[1]Sheet1!$A:$F,2,0)","v":"区直"},{"$f":"VLOOKUP(A290,[1]Sheet1!$A:$F,3,0)","v":"崇左市扶绥县公安局"},{"$f":"VLOOKUP(A290,[1]Sheet1!$A:$F,4,0)","v":"法医职位八"},"0:1"]
[45150261,1,0,{"$f":"VLOOKUP(A291,[1]Sheet1!$A:$F,2,0)","v":"区直"},{"$f":"VLOOKUP(A291,[1]Sheet1!$A:$F,3,0)","v":"黎塘监狱"},{"$f":"VLOOKUP(A291,[1]Sheet1!$A:$F,4,0)","v":"档案管理职位一"},"0:1"]
[45150304,1,0,{"$f":"VLOOKUP(A292,[1]Sheet1!$A:$F,2,0)","v":"区直"},{"$f":"VLOOKUP(A292,[1]Sheet1!$A:$F,3,0)","v":"柳城监狱"},{"$f":"VLOOKUP(A292,[1]Sheet1!$A:$F,4,0)","v":"狱医职位二"},"0:1"]
[45150318,1,0,{"$f":"VLOOKUP(A293,[1]Sheet1!$A:$F,2,0)","v":"区直"},{"$f":"VLOOKUP(A293,[1]Sheet1!$A:$F,3,0)","v":"钟山监狱"},{"$f":"VLOOKUP(A293,[1]Sheet1!$A:$F,4,0)","v":"档案管理职位"},"0:1"]
[45150422,1,0,{"$f":"VLOOKUP(A294,[1]Sheet1!$A:$F,2,0)","v":"区直"},{"$f":"VLOOKUP(A294,[1]Sheet1!$A:$F,3,0)","v":"自治区第三强制隔离戒毒所"},{"$f":"VLOOKUP(A294,[1]Sheet1!$A:$F,4,0)","v":"戒毒管理职位一"},"0:1"]
[45150446,1,0,{"$f":"VLOOKUP(A295,[1]Sheet1!$A:$F,2,0)","v":"区直"},{"$f":"VLOOKUP(A295,[1]Sheet1!$A:$F,3,0)","v":"自治区第七强制隔离戒毒所"},{"$f":"VLOOKUP(A295,[1]Sheet1!$A:$F,4,0)","v":"戒毒管理职位一"},"0:1"]
[45050030,1,0,{"$f":"VLOOKUP(A296,[1]Sheet1!$A:$F,2,0)","v":"北海市"},{"$f":"VLOOKUP(A296,[1]Sheet1!$A:$F,3,0)","v":"北海市财政国库支付中心"},{"$f":"VLOOKUP(A296,[1]Sheet1!$A:$F,4,0)","v":"财政业务管理职位三"},"0:1"]
[45080085,1,0,{"$f":"VLOOKUP(A297,[1]Sheet1!$A:$F,2,0)","v":"贵港市"},{"$f":"VLOOKUP(A297,[1]Sheet1!$A:$F,3,0)","v":"贵港市平南县公安局"},{"$f":"VLOOKUP(A297,[1]Sheet1!$A:$F,4,0)","v":"宣传职位"},"0:1"]
[45080117,2,0,{"$f":"VLOOKUP(A298,[1]Sheet1!$A:$F,2,0)","v":"贵港市"},{"$f":"VLOOKUP(A298,[1]Sheet1!$A:$F,3,0)","v":"贵港市桂平市公安局"},{"$f":"VLOOKUP(A298,[1]Sheet1!$A:$F,4,0)","v":"文秘职位"},"0:1"]
[45250019,1,0,{"$f":"VLOOKUP(A299,[1]Sheet1!$A:$F,2,0)","v":"玉林市"},{"$f":"VLOOKUP(A299,[1]Sheet1!$A:$F,3,0)","v":"玉林市博白县公安局"},{"$f":"VLOOKUP(A299,[1]Sheet1!$A:$F,4,0)","v":"监所管理职位"},"0:1"]
[45240175,1,0,{"$f":"VLOOKUP(A300,[1]Sheet1!$A:$F,2,0)","v":"贺州市"},{"$f":"VLOOKUP(A300,[1]Sheet1!$A:$F,3,0)","v":"贺州市富川瑶族自治县朝东镇人民政府"},{"$f":"VLOOKUP(A300,[1]Sheet1!$A:$F,4,0)","v":"基层综合职位一"},"0:1"]
[45220159,1,0,{"$f":"VLOOKUP(A301,[1]Sheet1!$A:$F,2,0)","v":"来宾市"},{"$f":"VLOOKUP(A301,[1]Sheet1!$A:$F,3,0)","v":"来宾市金秀瑶族自治县司法局"},{"$f":"VLOOKUP(A301,[1]Sheet1!$A:$F,4,0)","v":"司法行政综合职位一"},"0:1"]