{"text_format":"3","workbook":"xlsx","n_sheets":1,"sheets":["公示"],"not_rendered":{"external_links":1,"defined_names":3},"read":"whole","date_system":"1900"}

{"sheet":"公示","index":0,"n_rows":12,"n_cols":16,"rows_kept":12,"merged":[[0,0,0,1],[1,0,1,15]]}
["附件"]
["桂林市检察机关2025年度拟录用公务员名单（共9人）"]
["序号","招录机关名称","用人单位","职位名称","职位代码","姓名","性别","民族","准考证号","工作单位或          毕业院校","行政职业能力测验成绩","申论       成绩","少数民族照顾加分","笔试总成绩","面试成绩","综合成绩（=笔试总成绩×50%+面试成绩）"]
[1,"桂林市人民检察院","桂林市人民检察院","司法警察职位","45030025","周洁","女","侗族",{"$f":"VLOOKUP(F4,[1]考察名单!$B$2:$E$9,4,0)","v":31030103015},"龙胜各族自治县泗水乡乡村建设综合保障中心",{"$f":"VLOOKUP(F4,[1]考察名单!$B$2:$L$9,11,0)","v":65},{"$f":"VLOOKUP(F4,[1]考察名单!$B$2:$M$9,12,0)","v":64},{"$f":"VLOOKUP(F4,[1]考察名单!$B$2:$O$9,14,0)","v":3},{"$f":"VLOOKUP(F4,[1]考察名单!$B$2:$P$9,15,0)","v":132},{"$f":"VLOOKUP(F4,[1]考察名单!$B$2:$Q$9,16,0)","v":80.6},{"$f":"VLOOKUP(F4,[1]考察名单!$B$2:$R$9,17,0)","v":{"v":146.6,"d":"146.60"}}]
[2,"桂林市人民检察院","桂林市人民检察院及基层人民检察院","司法警察职位","45030026","阳科","男","汉族",{"$f":"VLOOKUP(F5,[1]考察名单!$B$2:$E$9,4,0)","v":31030103202},"金秀瑶族自治县电子商务服务中心",{"$f":"VLOOKUP(F5,[1]考察名单!$B$2:$L$9,11,0)","v":62.5},{"$f":"VLOOKUP(F5,[1]考察名单!$B$2:$M$9,12,0)","v":70.5},{"$f":"VLOOKUP(F5,[1]考察名单!$B$2:$O$9,14,0)","v":0},{"$f":"VLOOKUP(F5,[1]考察名单!$B$2:$P$9,15,0)","v":133},{"$f":"VLOOKUP(F5,[1]考察名单!$B$2:$Q$9,16,0)","v":85},{"$f":"VLOOKUP(F5,[1]考察名单!$B$2:$R$9,17,0)","v":{"v":151.5,"d":"151.50"}}]
[3,"桂林市人民检察院","桂林市人民检察院及基层人民检察院","司法警察职位","45030026","丘宇","男","汉族",31030103022,"桂林市七星区人民检察院",70.2,60,0,130.2,83.3,{"v":148.4,"d":"148.40"}]
[4,"桂林市人民检察院","桂林市基层人民检察院","司法行政职位一","45030027","唐雨灿","女","汉族",{"$f":"VLOOKUP(F7,[1]考察名单!$B$2:$E$9,4,0)","v":21030301226},"黑龙江大学",{"$f":"VLOOKUP(F7,[1]考察名单!$B$2:$L$9,11,0)","v":74.4},{"$f":"VLOOKUP(F7,[1]考察名单!$B$2:$M$9,12,0)","v":74},{"$f":"VLOOKUP(F7,[1]考察名单!$B$2:$O$9,14,0)","v":0},{"$f":"VLOOKUP(F7,[1]考察名单!$B$2:$P$9,15,0)","v":148.4},{"$f":"VLOOKUP(F7,[1]考察名单!$B$2:$Q$9,16,0)","v":80.8},{"$f":"VLOOKUP(F7,[1]考察名单!$B$2:$R$9,17,0)","v":{"v":155,"d":"155.00"}}]
[5,"桂林市人民检察院","桂林市基层人民检察院","司法行政职位一","45030027","邝思薇","女","汉族",{"$f":"VLOOKUP(F8,[1]考察名单!$B$2:$E$9,4,0)","v":21030301729},"永福县城市管理监督局",{"$f":"VLOOKUP(F8,[1]考察名单!$B$2:$L$9,11,0)","v":69.9},{"$f":"VLOOKUP(F8,[1]考察名单!$B$2:$M$9,12,0)","v":71.5},{"$f":"VLOOKUP(F8,[1]考察名单!$B$2:$O$9,14,0)","v":0},{"$f":"VLOOKUP(F8,[1]考察名单!$B$2:$P$9,15,0)","v":141.4},{"$f":"VLOOKUP(F8,[1]考察名单!$B$2:$Q$9,16,0)","v":79.9},{"$f":"VLOOKUP(F8,[1]考察名单!$B$2:$R$9,17,0)","v":{"v":150.6,"d":"150.60"}}]
[6,"桂林市人民检察院","桂林市基层人民检察院","司法行政职位一","45030027","巫镇初","男","汉族",{"$f":"VLOOKUP(F9,[1]考察名单!$B$2:$E$9,4,0)","v":21030301621},"武汉大学",{"$f":"VLOOKUP(F9,[1]考察名单!$B$2:$L$9,11,0)","v":75.1},{"$f":"VLOOKUP(F9,[1]考察名单!$B$2:$M$9,12,0)","v":65},{"$f":"VLOOKUP(F9,[1]考察名单!$B$2:$O$9,14,0)","v":0},{"$f":"VLOOKUP(F9,[1]考察名单!$B$2:$P$9,15,0)","v":140.1},{"$f":"VLOOKUP(F9,[1]考察名单!$B$2:$Q$9,16,0)","v":79.7},{"$f":"VLOOKUP(F9,[1]考察名单!$B$2:$R$9,17,0)","v":149.75}]
[7,"桂林市人民检察院","桂林市基层人民检察院","司法行政职位二","45030028","李玲","女","汉族",{"$f":"VLOOKUP(F10,[1]考察名单!$B$2:$E$9,4,0)","v":21030300718},"广西职业师范学院",{"$f":"VLOOKUP(F10,[1]考察名单!$B$2:$L$9,11,0)","v":74.1},{"$f":"VLOOKUP(F10,[1]考察名单!$B$2:$M$9,12,0)","v":70},{"$f":"VLOOKUP(F10,[1]考察名单!$B$2:$O$9,14,0)","v":0},{"$f":"VLOOKUP(F10,[1]考察名单!$B$2:$P$9,15,0)","v":144.1},{"$f":"VLOOKUP(F10,[1]考察名单!$B$2:$Q$9,16,0)","v":84.4},{"$f":"VLOOKUP(F10,[1]考察名单!$B$2:$R$9,17,0)","v":156.45}]
[8,"桂林市人民检察院","桂林市基层人民检察院","司法行政职位二","45030028","马丽莎","女","满族",{"$f":"VLOOKUP(F11,[1]考察名单!$B$2:$E$9,4,0)","v":21030301427},"容县人大信息和代表履职服务中心",{"$f":"VLOOKUP(F11,[1]考察名单!$B$2:$L$9,11,0)","v":67.4},{"$f":"VLOOKUP(F11,[1]考察名单!$B$2:$M$9,12,0)","v":66},{"$f":"VLOOKUP(F11,[1]考察名单!$B$2:$O$9,14,0)","v":3},{"$f":"VLOOKUP(F11,[1]考察名单!$B$2:$P$9,15,0)","v":136.4},{"$f":"VLOOKUP(F11,[1]考察名单!$B$2:$Q$9,16,0)","v":82.1},{"$f":"VLOOKUP(F11,[1]考察名单!$B$2:$R$9,17,0)","v":{"v":150.3,"d":"150.30"}}]
[9,"桂林市人民检察院","桂林市基层人民检察院","司法行政职位二","45030028","林曦","女","汉族",{"$f":"VLOOKUP(F12,[1]考察名单!$B$2:$E$9,4,0)","v":21030301306},"桂林市疾病预防控制中心",{"$f":"VLOOKUP(F12,[1]考察名单!$B$2:$L$9,11,0)","v":71.5},{"$f":"VLOOKUP(F12,[1]考察名单!$B$2:$M$9,12,0)","v":62.5},{"$f":"VLOOKUP(F12,[1]考察名单!$B$2:$O$9,14,0)","v":0},{"$f":"VLOOKUP(F12,[1]考察名单!$B$2:$P$9,15,0)","v":134},{"$f":"VLOOKUP(F12,[1]考察名单!$B$2:$Q$9,16,0)","v":82.1},{"$f":"VLOOKUP(F12,[1]考察名单!$B$2:$R$9,17,0)","v":{"v":149.1,"d":"149.10"}}]