{"text_format":"3","workbook":"xlsx","n_sheets":1,"sheets":["Sheet1"],"not_rendered":{"external_links":1,"defined_names":2},"read":"whole","date_system":"1900"}

{"sheet":"Sheet1","index":0,"n_rows":140,"n_cols":17,"rows_kept":140,"merged":[[0,0,0,1],[1,0,1,16],[4,1,6,1],[4,2,6,2],[4,3,5,3],[4,4,5,4],[4,5,5,5],[7,1,8,1],[7,2,8,2],[7,3,8,3],[7,4,8,4],[7,5,8,5],[10,1,15,1],[10,2,15,2],[10,3,12,3],[10,4,12,4],[10,5,12,5],[13,3,15,3],[13,4,15,4],[13,5,15,5],[16,1,19,1],[21,1,30,1],[22,2,28,2],[22,3,28,3],[22,4,28,4],[22,5,28,5],[29,2,30,2],[31,1,32,1],[34,1,35,1],[34,2,35,2],[34,3,35,3],[34,4,35,4],[34,5,35,5],[36,1,38,1],[37,2,38,2],[39,1,42,1],[39,2,41,2],[43,1,45,1],[43,2,45,2],[43,3,44,3],[43,4,44,4],[43,5,44,5],[46,1,51,1],[46,2,49,2],[47,3,48,3],[47,4,48,4],[47,5,48,5],[50,2,51,2],[50,3,51,3],[50,4,51,4],[50,5,51,5],[52,1,53,1],[54,1,57,1],[55,2,56,2],[58,1,61,1],[59,2,60,2],[59,3,60,3],[59,4,60,4],[59,5,60,5],[62,1,65,1],[62,2,64,2],[63,3,64,3],[63,4,64,4],[63,5,64,5],[67,1,68,1],[67,2,68,2],[69,1,71,1],[70,2,71,2],[72,1,79,1],[75,2,79,2],[75,3,79,3],[75,4,79,4],[75,5,79,5],[81,1,83,1],[84,1,85,1],[86,1,88,1],[86,2,87,2],[89,1,97,1],[90,2,92,2],[90,3,92,3],[90,4,92,4],[91,5,92,5],[94,2,97,2],[94,3,95,3],[94,4,95,4],[94,5,95,5],[96,3,97,3],[96,4,97,4],[96,5,97,5],[98,1,102,1],[98,2,100,2],[99,3,100,3],[99,4,100,4],[99,5,100,5],[101,2,102,2],[103,1,107,1],[103,2,106,2],[103,3,104,3],[103,4,104,4],[103,5,104,5],[105,3,106,3],[105,4,106,4],[105,5,106,5],[108,1,110,1],[111,1,115,1],[112,2,115,2],[112,3,115,3],[112,4,115,4],[112,5,115,5],[116,1,118,1],[117,2,118,2],[119,1,120,1],[121,1,124,1],[121,2,122,2],[123,2,124,2],[125,1,127,1],[125,2,127,2],[125,3,126,3],[125,4,126,4],[125,5,126,5],[128,1,131,1],[128,2,131,2],[128,3,129,3],[128,4,129,4],[128,5,129,5],[132,1,133,1],[134,1,135,1],[134,2,135,2],[136,1,139,1]]}
["附件"]
["2025年钦州市事业单位公开招聘工作人员（浦北县岗位）拟聘用人员名单"]
["序号","主管部门","招聘单位","招聘岗位名称","岗位代码","招考人数","姓名","准考证号","性别","民族","出生年月","毕业院校","学历","专业","考察情况","体检情况","备注"]
[1,"浦北县人民政府办公室","浦北县公共资源交易中心","信息系统管理","1450700443",1,"廖佳权","3145070203330",{"$f":"VLOOKUP(H4,[1]Sheet1!$A:$G,7,0)","v":"男"},"汉族","2003-05-17","新余学院","大学","智能科学与技术","合格","合格"]
[2,"中国共产党浦北县委员会宣传部","浦北县网络舆情监控中心","综合岗位一",1450700444,2,"杨小倩","1145070405026",{"$f":"VLOOKUP(H5,[1]Sheet1!$A:$G,7,0)","v":"女"},"汉族","1998-02-15","中北大学","大学","计算机科学与技术","合格","合格"]
[3,{"$nulls":5},"陈创建","1145070404420",{"$f":"VLOOKUP(H6,[1]Sheet1!$A:$G,7,0)","v":"男"},"汉族","1999-12-11","广西师范大学","大学","软件工程","合格","合格"]
[4,null,null,"综合岗位二","1450700445",1,"朱春薇","1145070400327",{"$f":"VLOOKUP(H7,[1]Sheet1!$A:$G,7,0)","v":"女"},"汉族","2000-05-15","嘉兴学院","大学","人力资源管理","合格","合格"]
[5,"中国共产党浦北县委员会党校","中国共产党浦北县委员会党校","教师",1450700446,2,"苏帆","2145070204605",{"$f":"VLOOKUP(H8,[1]Sheet1!$A:$G,7,0)","v":"男"},"汉族","2000-10-17","广西外国语学院","大学","汉语言文学","合格","合格"]
[6,{"$nulls":5},"李菁菁","2145070209226",{"$f":"VLOOKUP(H9,[1]Sheet1!$A:$G,7,0)","v":"女"},"汉族","2002-08-03","北部湾大学","大学","汉语言文学","合格","合格"]
[7,"浦北县公安局","浦北县互联网信息安全中心","网络监控",1450700447,1,"赖剑宇","2145070209617",{"$f":"VLOOKUP(H10,[1]Sheet1!$A:$G,7,0)","v":"女"},"汉族","2000-07-23","广西民族大学","大学","网络工程","合格","合格"]
[8,"浦北县财政局","浦北县财政信息中心","工作人员一",1450700448,3,"梁嘉儿","1145070405623",{"$f":"VLOOKUP(H11,[1]Sheet1!$A:$G,7,0)","v":"女"},"汉族","2001-04-26","浙江工商大学","大学","经济学","合格","合格"]
[9,{"$nulls":5},"吴民珍",1145070404908,{"$f":"VLOOKUP(H12,[1]Sheet1!$A:$G,7,0)","v":"女"},"汉族","2002-02-13","福建理工大学","大学","金融工程","合格","合格"]
[10,{"$nulls":5},"黄文泽","1145070404329",{"$f":"VLOOKUP(H13,[1]Sheet1!$A:$G,7,0)","v":"男"},"汉族","1991-12-27","广西外国语学院","大学","国际经济与贸易","合格","合格"]
[11,null,null,"工作人员二","1450700449",3,"邓艳丽","2145070207513",{"$f":"VLOOKUP(H14,[1]Sheet1!$A:$G,7,0)","v":"女"},"汉族","2002-01-24","广西大学","大学","信息安全","合格","合格"]
[12,{"$nulls":5},"何君怡","2145070214027",{"$f":"VLOOKUP(H15,[1]Sheet1!$A:$G,7,0)","v":"女"},"汉族","1997-08-25","北部湾大学","大学","财务管理","合格","合格"]
[13,{"$nulls":5},"凌易洪",2145070215212,"女","汉族","2000-09-10","广西财经学院","大学","会计学","合格","合格","递补"]
[14,"浦北县自然资源局","浦北县不动产登记中心","专业技术岗位","1450700450",1,"容潮生","3145070203429",{"$f":"VLOOKUP(H17,[1]Sheet1!$A:$G,7,0)","v":"男"},"汉族","2000-04-30","荆州学院","大学","计算机科学与技术","合格","合格"]
[15,null,"浦北县自然资源技术服务站","专业技术岗位",1450700451,1,"王裕享","3145070200514",{"$f":"VLOOKUP(H18,[1]Sheet1!$A:$G,7,0)","v":"男"},"汉族","2001-10-04","南宁师范大学","大学","自然地理与资源环境","合格","合格"]
[16,null,"浦北县地质环境监测站","专业技术岗位",1450700452,1,"吴宗蔓","3145070200327",{"$f":"VLOOKUP(H19,[1]Sheet1!$A:$G,7,0)","v":"女"},"汉族","2001-04-17","湘潭大学","大学","环境工程","合格","合格"]
[17,null,"浦北县国土空间规划设计室","专业技术岗位",1450700453,1,"黄宗旺","3145070203013",{"$f":"VLOOKUP(H20,[1]Sheet1!$A:$G,7,0)","v":"男"},"汉族","1995-08-25","桂林理工大学","大学","城乡规划","合格","合格"]
[18,"浦北县住房和城乡建设局","浦北县房产开发建设服务中心","公租房管理岗位","1450700454",1,"李卓婷","2145070205822",{"$f":"VLOOKUP(H21,[1]Sheet1!$A:$G,7,0)","v":"女"},"汉族","2002-01-30","海南大学","大学","旅游管理","合格","合格"]
[19,"浦北县农业农村局","浦北县经济作物技术推广站","会计",1450700455,1,"冯金凤","2145070210226",{"$f":"VLOOKUP(H22,[1]Sheet1!$A:$G,7,0)","v":"女"},"汉族","1998-10-06","玉林师范学院","大学","财务管理","合格","合格"]
[20,null,"浦北县动物疫病预防控制中心","技术员",1450700457,7,"利茵","3145070200520",{"$f":"VLOOKUP(H23,[1]Sheet1!$A:$G,7,0)","v":"女"},"汉族","2002-01-28","广西农业职业技术大学","大学","动物医学","合格","合格"]
[21,{"$nulls":5},"覃幼珍","3145070201327",{"$f":"VLOOKUP(H24,[1]Sheet1!$A:$G,7,0)","v":"女"},"壮族","2001-11-14","广西大学","大学","动物医学","合格","合格"]
[22,{"$nulls":5},"劳得侨","3145070200929",{"$f":"VLOOKUP(H25,[1]Sheet1!$A:$G,7,0)","v":"男"},"汉族","2001-02-10","广西农业职业技术大学","大学","动物医学","合格","合格"]
[23,{"$nulls":5},"陈鑫雨","3145070202724",{"$f":"VLOOKUP(H26,[1]Sheet1!$A:$G,7,0)","v":"女"},"汉族","1998-06-18","云南农业大学","大学","动物医学","合格","合格"]
[24,{"$nulls":5},"黄远丕","3145070200703",{"$f":"VLOOKUP(H27,[1]Sheet1!$A:$G,7,0)","v":"男"},"汉族","1993-10-16","仲恺农业工程学院","研究生","兽医","合格","合格"]
[25,{"$nulls":5},"杨志芳","3145070202802",{"$f":"VLOOKUP(H28,[1]Sheet1!$A:$G,7,0)","v":"女"},"汉族","1997-03-26","广西大学","大学","动物医学","合格","合格"]
[26,{"$nulls":5},"张慧玲","3145070203522",{"$f":"VLOOKUP(H29,[1]Sheet1!$A:$G,7,0)","v":"女"},"汉族","1999-12-15","广西大学","大学","动物医学","合格","合格"]
[27,null,"浦北县陈皮产业发展中心","技术员一","1450700458",1,"徐靖宏","3145070200410",{"$f":"VLOOKUP(H30,[1]Sheet1!$A:$G,7,0)","v":"男"},"汉族","2004-01-11","天津农学院","大学","园艺","合格","合格"]
[28,null,null,"技术员二","1450700459",1,"廖明珠","3145070201819",{"$f":"VLOOKUP(H31,[1]Sheet1!$A:$G,7,0)","v":"女"},"壮族","1992-12-09","钦州学院","大学","食品科学与工程","合格","合格"]
[29,"浦北县林业局","浦北县林业科学研究所","专业技术","1450700460",1,"郑顺珍","3145070202406",{"$f":"VLOOKUP(H32,[1]Sheet1!$A:$G,7,0)","v":"女"},"汉族","1997-11-22","天津农学院","大学","林学","合格","合格"]
[30,null,"浦北县六万山林场","专业技术","1450700461",1,"黄喆腾","3145070202307",{"$f":"VLOOKUP(H33,[1]Sheet1!$A:$G,7,0)","v":"男"},"汉族","1988-12-15","中南林业科技大学","大学","林学","合格","合格"]
[31,"浦北县审计局","浦北县公共投资审计中心","技术员",1450700462,1,"林发琪","2145070210502",{"$f":"VLOOKUP(H34,[1]Sheet1!$A:$G,7,0)","v":"男"},"汉族","1998-08-23","北部湾大学","大学","土木工程","合格","合格"]
[32,"浦北县司法局","广西壮族自治区浦北县公证处","专业技术岗位",1450700463,2,"劳映雪","2145070209804",{"$f":"VLOOKUP(H35,[1]Sheet1!$A:$G,7,0)","v":"女"},"汉族","2000-09-17","广西民族大学","大学","法学","合格","合格"]
[33,{"$nulls":5},"叶晓晴","2145070213024",{"$f":"VLOOKUP(H36,[1]Sheet1!$A:$G,7,0)","v":"女"},"汉族","2003-02-23","桂林电子科技大学","大学","知识产权","合格","合格"]
[34,"浦北县交通运输局","浦北县交通建设发展中心","岗位3",1450700466,1,"蒙子金","3145070202819",{"$f":"VLOOKUP(H37,[1]Sheet1!$A:$G,7,0)","v":"女"},"汉族","2002-02-02","五邑大学","大学","交通工程","合格","合格"]
[35,null,"浦北县交通运输服务中心","岗位1",1450700467,1,"胡惠金","3145070202826",{"$f":"VLOOKUP(H38,[1]Sheet1!$A:$G,7,0)","v":"女"},"汉族","1999-05-25","泉州师范学院","大学","物流管理","合格","合格"]
[36,null,null,"岗位2",1450700468,1,"谢同欢","2145070211602",{"$f":"VLOOKUP(H39,[1]Sheet1!$A:$G,7,0)","v":"女"},"壮族","2002-12-29","青岛理工大学","大学","交通运输","合格","合格"]
[37,"浦北县综合行政执法局","浦北县环境卫生管理站","办公室综合岗位",1450700469,1,"王晖霞","1145070402910",{"$f":"VLOOKUP(H40,[1]Sheet1!$A:$G,7,0)","v":"女"},"汉族","1993-10-05","广西师范学院","大学","汉语言文学","合格","合格"]
[38,null,null,"会计",1450700470,1,"邓珊","2145070204827",{"$f":"VLOOKUP(H41,[1]Sheet1!$A:$G,7,0)","v":"女"},"汉族","2003-04-23","南宁学院","大学","工程审计","合格","合格"]
[39,null,null,"收费员",1450700471,1,"黄润珠","1145070404506",{"$f":"VLOOKUP(H42,[1]Sheet1!$A:$G,7,0)","v":"男"},"汉族","1999-11-07","广西警察学院","大学","社会工作","合格","合格"]
[40,null,"浦北县园林绿化管理所","财务工作人员","1450700472",1,"夏茂俊","2145070207109",{"$f":"VLOOKUP(H43,[1]Sheet1!$A:$G,7,0)","v":"男"},"汉族","2002-08-26","广西大学行健文理学院","大学","会计学","合格","合格"]
[41,"浦北县医疗保障局","浦北县医疗保障事业管理中心","工作人员",1450700473,2,"杨小芳","5645070304313",{"$f":"VLOOKUP(H44,[1]Sheet1!$A:$G,7,0)","v":"女"},"汉族","2002-04-15","广西中医药大学","大学","健康服务与管理","合格","合格"]
[42,{"$nulls":5},"宁宇","5645070304230",{"$f":"VLOOKUP(H45,[1]Sheet1!$A:$G,7,0)","v":"女"},"汉族","2001-07-10","广西中医药大学赛恩斯新医药学院","大学","中医学","合格","合格"]
[43,null,null,"财务工作人员","1450700474",1,"萧凡","2145070205125",{"$f":"VLOOKUP(H46,[1]Sheet1!$A:$G,7,0)","v":"女"},"汉族","2001-05-06","天津中德应用技术大学","大学","财务管理","合格","合格"]
[44,"浦北县文化广电体育和旅游局","浦北县博物馆","博物馆讲解员",1450700475,1,"姚晓华","2145070212230",{"$f":"VLOOKUP(H47,[1]Sheet1!$A:$G,7,0)","v":"女"},"汉族","2000-04-05","北京师范大学珠海分校","大学","英语","合格","合格"]
[45,null,null,"田野考古","1450700476",2,"石雅迪","2145070204313",{"$f":"VLOOKUP(H48,[1]Sheet1!$A:$G,7,0)","v":"女"},"侗族","2003-01-23","广西民族大学","大学","民族学","合格","合格"]
[46,{"$nulls":5},"黄晶",2145070215207,"女","壮族","1996-05-18","桂林理工大学","研究生","中国少数民族经济","合格","合格","递补"]
[47,null,null,"文物管理",1450700477,1,"黄京思","2145070215107",{"$f":"VLOOKUP(H50,[1]Sheet1!$A:$G,7,0)","v":"女"},"壮族","2000-02-25","广西师范大学","大学","历史学","合格","合格"]
[48,null,"浦北县文化馆","专业技术人才",1450700478,2,"高千惠","2145070207418",{"$f":"VLOOKUP(H51,[1]Sheet1!$A:$G,7,0)","v":"女"},"汉族","1999-07-13","广西师范大学漓江学院","大学","舞蹈学","合格","合格"]
[49,{"$nulls":5},"黄秋翠","2145070209409",{"$f":"VLOOKUP(H52,[1]Sheet1!$A:$G,7,0)","v":"女"},"汉族","2003-06-27","百色学院","大学","舞蹈学专业","合格","合格"]
[50,"浦北县发展和\n改革局","浦北县经济信息中心","综合岗位",1450700479,1,"洪基燕","1145070404428",{"$f":"VLOOKUP(H53,[1]Sheet1!$A:$G,7,0)","v":"女"},"汉族","2003-02-23","广西财经学院","大学","经济统计学","合格","合格"]
[51,null,"浦北县优化营商环境服务中心","综合岗位",1450700480,1,"邓紫莹","2145070211820",{"$f":"VLOOKUP(H54,[1]Sheet1!$A:$G,7,0)","v":"女"},"汉族","1996-08-26","百色学院","大学","财务管理","合格","合格"]
[52,"浦北县水利局","浦北县城区河堤管理站","技术员","1450700481",1,"宁心莲","2145070204108",{"$f":"VLOOKUP(H55,[1]Sheet1!$A:$G,7,0)","v":"女"},"汉族","2000-08-24","广西财经学院","大学","会计学","合格","合格"]
[53,null,"浦北县水土保持监督站","技术员一",1450700483,1,"黄小镛","3145070201527",{"$f":"VLOOKUP(H56,[1]Sheet1!$A:$G,7,0)","v":"男"},"壮族","2003-08-25","桂林理工大学","大学","光电信息科学与工程","合格","合格"]
[54,null,null,"技术员二","1450700484",1,"陆泳杰","3145070200213",{"$f":"VLOOKUP(H57,[1]Sheet1!$A:$G,7,0)","v":"男"},"汉族","2001-09-28","北部湾大学","大学","港口航道与海岸工程","合格","合格"]
[55,null,"浦北县水利综合规划服务站","技术员",1450700485,1,"韦虹","2145070216611",{"$f":"VLOOKUP(H58,[1]Sheet1!$A:$G,7,0)","v":"女"},"汉族","2002-09-07","广西科技师范学院","大学","汉语言文学（师范）","合格","合格"]
[56,"浦北县市场监督管理局","浦北县食品药品安全信息与监控中心","综合职位",1450700486,1,"张珂","3145070203127",{"$f":"VLOOKUP(H59,[1]Sheet1!$A:$G,7,0)","v":"男"},"汉族","1992-08-10","桂林理工大学","大学","计算机科学与技术","合格","合格"]
[57,null,"浦北县食品药品检验所","综合职位","1450700487",2,"陈文宇","3145070201006",{"$f":"VLOOKUP(H60,[1]Sheet1!$A:$G,7,0)","v":"女"},"汉族","2002-02-24","广西医科大学","大学","药学","合格","合格"]
[58,{"$nulls":5},"梁臣锋","3145070200915",{"$f":"VLOOKUP(H61,[1]Sheet1!$A:$G,7,0)","v":"男"},"汉族","1996-07-28","广西大学","大学","应用化学","合格","合格"]
[59,null,"浦北县计量检定测试所","综合职位",1450700488,1,"陈创霖","3145070202412",{"$f":"VLOOKUP(H62,[1]Sheet1!$A:$G,7,0)","v":"男"},"汉族","1998-01-15","河海大学","大学","机械工程","合格","合格"]
[60,"浦北县工业和信息化局","浦北县企业发展综合服务中心","工作人员一","1450700489",1,"韦能骞","3145070201130",{"$f":"VLOOKUP(H63,[1]Sheet1!$A:$G,7,0)","v":"男"},"汉族","2002-03-03","桂林理工大学","大学","土木工程","合格","合格"]
[61,null,null,"工作人员二","1450700490",2,"余晓琪","2145070207618",{"$f":"VLOOKUP(H64,[1]Sheet1!$A:$G,7,0)","v":"女"},"汉族","1998-11-15","广西大学","大学","金融学","合格","合格"]
[62,{"$nulls":5},"龚源源","2145070210610",{"$f":"VLOOKUP(H65,[1]Sheet1!$A:$G,7,0)","v":"女"},"汉族","2001-03-05","广西大学","大学","自动化","合格","合格"]
[63,null,"浦北县节能服务中心","工作人员",1450700491,1,"王椿莹","2145070215215",{"$f":"VLOOKUP(H66,[1]Sheet1!$A:$G,7,0)","v":"女"},"汉族","2001-11-26","闽南师范大学","大学","电子信息工程","合格","合格"]
[64,"广西浦北经济开发区管理委员会","浦北县工业区综合服务中心","工作人员",1450700492,1,"宁心淳","1145070401628",{"$f":"VLOOKUP(H67,[1]Sheet1!$A:$G,7,0)","v":"女"},"汉族","2002-02-11","广西大学行健文理学院","大学","汉语言文学","合格","合格"]
[65,"中国共产党浦北县委员会组织部","浦北县高层次人才储备中心","工作人员一",1450700493,1,"谭明慧","1145070403012",{"$f":"VLOOKUP(H68,[1]Sheet1!$A:$G,7,0)","v":"女"},"汉族","1999-11-16","福建师范大学","大学","法学","合格","合格"]
[66,null,null,"工作人员二",1450700494,1,"黄奕羽","1145070404216",{"$f":"VLOOKUP(H69,[1]Sheet1!$A:$G,7,0)","v":"女"},"汉族","2000-10-15","无锡太湖学院","大学","审计学","合格","合格"]
[67,"浦北县小江街道党政机关","浦北县小江街道便民服务中心","综合岗位","1450700495",1,"覃汶乐","2145070205717",{"$f":"VLOOKUP(H70,[1]Sheet1!$A:$G,7,0)","v":"男"},"汉族","2003-02-25","梧州学院","大学","财务管理","合格","合格"]
[68,null,"浦北县小江街道乡村建设综合保障中心","综合岗位（一）",1450700496,1,"郭琦","2145070213215",{"$f":"VLOOKUP(H71,[1]Sheet1!$A:$G,7,0)","v":"女"},"汉族","1998-10-27","上海工程技术大学","大学","能源与动力工程","合格","合格"]
[69,null,null,"综合岗位（二）",1450700497,1,"谢韵","3145070200607",{"$f":"VLOOKUP(H72,[1]Sheet1!$A:$G,7,0)","v":"女"},"汉族","2002-09-04","南宁师范大学","大学","信息管理与信息系统","合格","合格"]
[70,"浦北县江城街道党政机关","浦北县江城街道乡村建设综合保障中心","综合岗位",1450700498,1,"龙飞扬","2145070214917",{"$f":"VLOOKUP(H73,[1]Sheet1!$A:$G,7,0)","v":"女"},"汉族","2003-10-22","南宁师范大学","大学","人力资源管理","合格","合格"]
[71,null,"浦北县江城街道农业服务中心","综合岗位","1450700499",1,"刘家城","2145070207129",{"$f":"VLOOKUP(H74,[1]Sheet1!$A:$G,7,0)","v":"男"},"汉族","1993-03-28","桂林理工大学","大学","环境工程","合格","合格"]
[72,null,"浦北县江城街道便民服务中心","综合岗位","1450700500",1,"劳梅彬","2145070206501",{"$f":"VLOOKUP(H75,[1]Sheet1!$A:$G,7,0)","v":"女"},"汉族","1999-04-20","广西医科大学","大学","社会工作","合格","合格"]
[73,null,"浦北县江城街道综合行政执法队","综合岗位",1450700501,5,"高海鸿","2145070211017",{"$f":"VLOOKUP(H76,[1]Sheet1!$A:$G,7,0)","v":"男"},"汉族","1995-06-28","桂林理工大学","大学","高分子材料与工程","合格","合格"]
[74,{"$nulls":5},"梁月","2145070212908",{"$f":"VLOOKUP(H77,[1]Sheet1!$A:$G,7,0)","v":"女"},"汉族","2002-05-24","南宁师范大学","大学","汉语言文学","合格","合格"]
[75,{"$nulls":5},"宁心燕","2145070212317",{"$f":"VLOOKUP(H78,[1]Sheet1!$A:$G,7,0)","v":"女"},"汉族","1998-02-16","桂林理工大学博文管理学院","大学","英语","合格","合格"]
[76,{"$nulls":5},"陈张宾","2145070213011",{"$f":"VLOOKUP(H79,[1]Sheet1!$A:$G,7,0)","v":"男"},"汉族","2002-05-14","南宁师范大学","大学","通信工程","合格","合格"]
[77,{"$nulls":5},"陈秀然","2145070215717",{"$f":"VLOOKUP(H80,[1]Sheet1!$A:$G,7,0)","v":"男"},"汉族","2001-05-22","郑州轻工业大学","大学","新能源材料与器件","合格","合格"]
[78,"浦北县泉水镇党政机关","浦北县泉水镇综合行政执法队","专业技术岗位","1450700502",1,"马茜颖","2145070210027",{"$f":"VLOOKUP(H81,[1]Sheet1!$A:$G,7,0)","v":"女"},"汉族","2001-04-07","桂林电子科技大学","大学","工业设计","合格","合格"]
[79,"浦北县石埇镇党政机关","浦北县石埇镇便民服务中心","管理岗位一",1450700503,1,"张敏","2145070213622",{"$f":"VLOOKUP(H82,[1]Sheet1!$A:$G,7,0)","v":"女"},"汉族","1999-09-08","桂林旅游学院","大学","经济与金融","合格","合格"]
[80,null,"浦北县石埇镇农业服务中心","专业技术岗位（一）","1450700504",1,"余世兰","3145070202129",{"$f":"VLOOKUP(H83,[1]Sheet1!$A:$G,7,0)","v":"女"},"汉族","1995-08-20","云南农业大学","大学","农学","合格","合格"]
[81,null,"浦北县石埇镇综合行政执法队","综合执法岗","1450700506",1,"赵虹宇","2145070205605",{"$f":"VLOOKUP(H84,[1]Sheet1!$A:$G,7,0)","v":"男"},"汉族","2003-02-09","广西城市职业大学","大学","大数据工程技术","合格","合格"]
[82,"浦北县安石镇党政机关","浦北县安石镇便民服务中心","综合岗位","1450700507",1,"蒋道广","2145070204002",{"$f":"VLOOKUP(H85,[1]Sheet1!$A:$G,7,0)","v":"男"},"汉族","2002-04-26","百色学院","大学","网络工程","合格","合格"]
[83,null,"浦北县安石镇综合行政执法队","综合岗位二",1450700508,1,"何鑫",2145070215923,"男","汉族","1995-05-01","广西师范大学","大学","汉语言文学","合格","合格"]
[84,"浦北县张黄镇党政机关","浦北县张黄镇便民服务中心","综合岗位",1450700509,1,"黎杏","2145070214123",{"$f":"VLOOKUP(H87,[1]Sheet1!$A:$G,7,0)","v":"女"},"汉族","2001-07-29","广西大学行健文理学院","大学","广告学","合格","合格"]
[85,null,null,"专业技术岗位",1450700510,1,"王秀森","2145070207804",{"$f":"VLOOKUP(H88,[1]Sheet1!$A:$G,7,0)","v":"男"},"汉族","1999-08-10","哈尔滨师范大学","大学","计算机科学与技术","合格","合格"]
[86,null,"浦北县张黄镇综合行政执法队","专业技术岗位",1450700511,1,"何贤芳","2145070215514",{"$f":"VLOOKUP(H89,[1]Sheet1!$A:$G,7,0)","v":"女"},"汉族","1999-02-24","广西科技大学","大学","工商管理","合格","合格"]
[87,"浦北县大成镇党政机关","浦北县大成镇乡村建设综合保障中心","综合岗位",1450700512,1,"赖剑林","2145070212009",{"$f":"VLOOKUP(H90,[1]Sheet1!$A:$G,7,0)","v":"男"},"汉族","1992-05-06","桂林理工大学","大学","资源勘查工程","合格","合格"]
[88,null,"浦北县大成镇农业服务中心","综合岗位一","1450700513",1,"罗春玲","2145070215720",{"$f":"VLOOKUP(H91,[1]Sheet1!$A:$G,7,0)","v":"女"},"汉族","2002-02-20","广西财经学院","大学","统计学","合格","合格"]
[89,{"$nulls":4},2,"施雅文","2145070207130",{"$f":"VLOOKUP(H92,[1]Sheet1!$A:$G,7,0)","v":"女"},"汉族","1998-07-27","百色学院","大学","越南语专业","合格","合格"]
[90,{"$nulls":5},"张文韬","2145070207930",{"$f":"VLOOKUP(H93,[1]Sheet1!$A:$G,7,0)","v":"男"},"汉族","1998-03-27","天津理工大学","大学","机械电子工程专业","合格","合格","递补"]
[91,null,"浦北县大成镇便民服务中心","综合岗位",1450700515,1,"张婷","2145070207426",{"$f":"VLOOKUP(H94,[1]Sheet1!$A:$G,7,0)","v":"女"},"汉族","1997-10-11","广西民族大学","大学","秘书学","合格","合格"]
[92,null,"浦北县大成镇综合行政执法队","综合岗位一",1450700516,2,"李东洪","2145070211223",{"$f":"VLOOKUP(H95,[1]Sheet1!$A:$G,7,0)","v":"男"},"汉族","1994-05-19","国家开放大学","大学","行政管理","合格","合格"]
[93,{"$nulls":5},"吴朝铃","2145070214613",{"$f":"VLOOKUP(H96,[1]Sheet1!$A:$G,7,0)","v":"女"},"汉族","2001-02-05","广西警察学院","大学","信息安全","合格","合格"]
[94,null,null,"综合岗位二",1450700517,2,"杨婷","2145070207515",{"$f":"VLOOKUP(H97,[1]Sheet1!$A:$G,7,0)","v":"女"},"汉族","1999-12-14","百色学院","大学","汉语言文学","合格","合格"]
[95,{"$nulls":5},"陈洁洁","2145070208222",{"$f":"VLOOKUP(H98,[1]Sheet1!$A:$G,7,0)","v":"女"},"汉族","1999-11-18","广西外国语学院","大学","人力资源管理","合格","合格"]
[96,"浦北县白石水镇党政机关","浦北县白石水镇农业服务中心","技术岗一",1450700518,1,"何海洋","2145070206215",{"$f":"VLOOKUP(H99,[1]Sheet1!$A:$G,7,0)","v":"男"},"满族","1991-09-22","河北科技大学","大学","英语","合格","合格"]
[97,null,null,"技术岗二",1450700519,2,"庞子盛","3145070200511",{"$f":"VLOOKUP(H100,[1]Sheet1!$A:$G,7,0)","v":"男"},"汉族","1997-08-14","桂林理工大学","大学","水文与水资源工程","合格","合格"]
[98,{"$nulls":5},"陈筱婷","3145070200710",{"$f":"VLOOKUP(H101,[1]Sheet1!$A:$G,7,0)","v":"女"},"汉族","2002-02-06","武夷学院","大学","园艺","合格","合格"]
[99,null,"浦北县白石水镇综合行政执法队","技术岗二","1450700520",1,"陈小娟","2145070209107",{"$f":"VLOOKUP(H102,[1]Sheet1!$A:$G,7,0)","v":"女"},"汉族","1993-10-18","钦州学院","大学","法律","合格","合格"]
[100,null,null,"技术岗三",1450700521,1,"黄宙光","3145070202721",{"$f":"VLOOKUP(H103,[1]Sheet1!$A:$G,7,0)","v":"男"},"汉族","2000-12-20","广西民族大学","大学","土木工程","合格","合格"]
[101,"浦北县三合镇党政机关","浦北县三合镇综合行政执法队","执法员一",1450700522,2,"陈秋燕",2145070207102,"女","汉族","2002-08-16","柳州工学院","大学","工商管理","合格","合格"]
[102,{"$nulls":5},"易小梅",2145070209517,"女","汉族","2004-01-09","湘潭大学","大学","广告学","合格","合格","递补"]
[103,null,null,"执法员二",1450700523,2,"罗家瑜","2145070212005",{"$f":"VLOOKUP(H106,[1]Sheet1!$A:$G,7,0)","v":"女"},"汉族","1998-04-24","百色学院","大学","旅游管理","合格","合格"]
[104,{"$nulls":5},"宁开霞","2145070214415",{"$f":"VLOOKUP(H107,[1]Sheet1!$A:$G,7,0)","v":"女"},"汉族","2001-01-10","重庆师范大学","大学","工商管理","合格","合格"]
[105,null,"浦北县三合镇便民服务中心","职员",1450700524,1,"姚玉琴","2145070212914",{"$f":"VLOOKUP(H108,[1]Sheet1!$A:$G,7,0)","v":"女"},"汉族","1999-01-22","河池学院","大学","制药工程","合格","合格"]
[106,"浦北县寨圩镇党政机关","浦北县寨圩镇农业服务中心","技术员",1450700526,1,"谢常杰","2145070211107",{"$f":"VLOOKUP(H109,[1]Sheet1!$A:$G,7,0)","v":"男"},"汉族","1997-10-18","广西财经学院","大学","国际商务","合格","合格"]
[107,null,"浦北县寨圩镇综合行政执法队","职员",1450700527,1,"朱筠湲","2145070208905",{"$f":"VLOOKUP(H110,[1]Sheet1!$A:$G,7,0)","v":"女"},"汉族","2001-09-21","桂林航天工业学院","大学","建筑环境与能源应用工程","合格","合格"]
[108,null,"浦北县寨圩镇乡村建设综合保障中心","技术员",1450700528,1,"宁瑜漩","2145070207801",{"$f":"VLOOKUP(H111,[1]Sheet1!$A:$G,7,0)","v":"女"},"汉族","2000-08-09","南宁学院","大学","建筑学","合格","合格"]
[109,"浦北县乐民镇党政机关","浦北县乐民镇便民服务中心","综合岗","1450700529",1,"覃雨娴","2145070207822",{"$f":"VLOOKUP(H112,[1]Sheet1!$A:$G,7,0)","v":"女"},"汉族","2003-05-20","广西科技师范学院","大学","思想政治(教育)专业","合格","合格"]
[110,null,"浦北县乐民镇综合行政执法队","综合岗",1450700530,4,"李宇彤","2145070207502",{"$f":"VLOOKUP(H113,[1]Sheet1!$A:$G,7,0)","v":"男"},"汉族","2000-07-14","广西大学行健文理学院","大学","通信工程","合格","合格"]
[111,{"$nulls":5},"包丽丽","2145070215629",{"$f":"VLOOKUP(H114,[1]Sheet1!$A:$G,7,0)","v":"女"},"汉族","1996-04-21","玉林师范学院","大学","园林","合格","合格"]
[112,{"$nulls":5},"雷雨琪","2145070216106",{"$f":"VLOOKUP(H115,[1]Sheet1!$A:$G,7,0)","v":"女"},"汉族","2002-12-11","南宁学院","大学","物流工程","合格","合格"]
[113,{"$nulls":5},"罗国晰","2145070211620",{"$f":"VLOOKUP(H116,[1]Sheet1!$A:$G,7,0)","v":"男"},"汉族","1994-07-20","衢州学院","大学","材料成型及控制工程","合格","合格"]
[114,"浦北县六硍镇党政机关","浦北县六硍镇综合行政执法队","综合岗位",1450700531,1,"梁展","2145070206920",{"$f":"VLOOKUP(H117,[1]Sheet1!$A:$G,7,0)","v":"男"},"汉族","1998-05-11","沈阳大学","大学","经济统计学","合格","合格"]
[115,null,"浦北县六硍镇农业服务中心","综合岗位一",1450700532,1,"张桐熙","2145070213911",{"$f":"VLOOKUP(H118,[1]Sheet1!$A:$G,7,0)","v":"男"},"汉族","1998-01-12","广西财经学院","大学","财政学","合格","合格"]
[116,null,null,"综合岗位二",1450700533,1,"黄小清","2145070215106",{"$f":"VLOOKUP(H119,[1]Sheet1!$A:$G,7,0)","v":"女"},"汉族","1998-09-11","南阳理工学院","大学","英语","合格","合格"]
[117,"浦北县平睦镇党政机关","浦北县平睦镇综合行政执法队","综合岗位",1450700534,1,"冯逸","2145070212918",{"$f":"VLOOKUP(H120,[1]Sheet1!$A:$G,7,0)","v":"男"},"汉族","2000-03-02","广西民族大学相思湖学院","大学","动画","合格","合格"]
[118,null,"浦北县平睦镇便民服务中心","综合岗位",1450700535,1,"周现","2145070208810",{"$f":"VLOOKUP(H121,[1]Sheet1!$A:$G,7,0)","v":"女"},"汉族","1999-11-17","桂林电子科技大学","大学","电子商务","合格","合格"]
[119,"浦北县官垌镇党政机关","浦北县官垌镇便民服务中心","综合管理岗一",1450700536,1,"宾明莉","1145070405227",{"$f":"VLOOKUP(H122,[1]Sheet1!$A:$G,7,0)","v":"女"},"汉族","2001-06-21","桂林航天工业学院","大学","物流管理","合格","合格"]
[120,null,null,"综合管理岗二",1450700537,1,"吴远辉","1145070404402",{"$f":"VLOOKUP(H123,[1]Sheet1!$A:$G,7,0)","v":"男"},"汉族","1998-03-06","桂林理工大学博文管理学院","大学","财务管理","合格","合格"]
[121,null,"浦北县官垌镇综合行政执法队","综合管理岗","1450700538",1,"谢猛","1145070400915",{"$f":"VLOOKUP(H124,[1]Sheet1!$A:$G,7,0)","v":"男"},"汉族","2002-09-05","广西城市职业大学","大学","物流管理","合格","合格"]
[122,null,null,"专业技术岗","1450700539",1,"张锦聪","1145070401009",{"$f":"VLOOKUP(H125,[1]Sheet1!$A:$G,7,0)","v":"男"},"汉族","1990-10-07","广西财经学院","大学","法律","合格","合格"]
[123,"浦北县卫生健康局","浦北县人民医院","医师一","1450700540",2,"陈清清","5245070301502",{"$f":"VLOOKUP(H126,[1]Sheet1!$A:$G,7,0)","v":"女"},"汉族","1991-07-16","广西医科大学","大学","临床医学","合格","合格"]
[124,{"$nulls":5},"宁启俊","5245070301726",{"$f":"VLOOKUP(H127,[1]Sheet1!$A:$G,7,0)","v":"男"},"汉族","1990-12-16","广西医科大学","大学","临床医学","合格","合格"]
[125,null,null,"医师二","1450700541",1,"宁坤松","5245070301123",{"$f":"VLOOKUP(H128,[1]Sheet1!$A:$G,7,0)","v":"男"},"汉族","1986-11-07","右江民族医学院","大学","临床医学","合格","合格"]
[126,"浦北县卫生健康局","浦北县疾病预防控制中心","执业医师一","1450700564",2,"宋锡强","5645070304408",{"$f":"VLOOKUP(H129,[1]Sheet1!$A:$G,7,0)","v":"男"},"汉族","1999-02-27","桂林医学院","大学","预防医学","合格","合格"]
[127,{"$nulls":5},"王子政","5645070304208",{"$f":"VLOOKUP(H130,[1]Sheet1!$A:$G,7,0)","v":"男"},"汉族","1997-10-11","桂林医学院","大学","预防医学","合格","合格"]
[128,null,null,"信息技术工程","1450700566",1,"赵振广","3145070201605",{"$f":"VLOOKUP(H131,[1]Sheet1!$A:$G,7,0)","v":"男"},"汉族","1994-01-28","西安邮电大学","大学","计算机科学与技术","合格","合格"]
[129,null,null,"收费员","1450700567",1,"杨林梅","2145070208227",{"$f":"VLOOKUP(H132,[1]Sheet1!$A:$G,7,0)","v":"女"},"汉族","1994-03-27","广西大学","大学","会计学","合格","合格"]
[130,"浦北县自然资源局","浦北县不动产登记中心","管理岗位",1450700577,1,"刘明霞","1145070402418",{"$f":"VLOOKUP(H133,[1]Sheet1!$A:$G,7,0)","v":"女"},"汉族","1999-06-28","南宁师范大学","大学","土地资源管理","合格","合格"]
[131,null,"浦北县自然资源技术服务站","管理岗位","1450700578",1,"邓远焕","1145070400118",{"$f":"VLOOKUP(H134,[1]Sheet1!$A:$G,7,0)","v":"男"},"汉族","1992-10-05","桂林理工大学","大学","勘查技术与工程","合格","合格"]
[132,"浦北县商务局","浦北县商务发展服务中心","管理岗位",1450700579,1,"谭崇武","1145070403017",{"$f":"VLOOKUP(H135,[1]Sheet1!$A:$G,7,0)","v":"男"},"汉族","1998-12-19","桂林旅游学院","大学","电子商务","合格","合格"]
[133,null,null,"技术岗位",1450700580,1,"陈巧柒","2145070213425",{"$f":"VLOOKUP(H136,[1]Sheet1!$A:$G,7,0)","v":"女"},"汉族","1997-10-04","广西民族师范学院","大学","国际经济与贸易","合格","合格"]
[134,"浦北县卫生健康局","浦北县泉水镇卫生院","医学影像技术",1450700572,1,"袁真善","免笔试","男","汉族","2001-06-20","梧州医学高等专科学校","大专","医学影像技术","合格","合格"]
[135,null,"浦北县三合镇卫生院","医师","1450700573",1,"吴乙安","免笔试","男","汉族","2001-01-11","岳阳执业技术学院","大专","临床医学","合格","合格"]
[136,null,"浦北县大成镇卫生院","中医","1450700574",1,"陈婷","免笔试","女","汉族","1988-03-10","广西中医药大学","大学","中医","合格","合格"]
[137,null,"浦北县社区卫生服务中心","医师一","1450700575",1,"梁绍琼","免笔试","女","汉族","1991-10-10","广西中医药大学赛恩斯新医药学院","大学","中医学","合格","合格"]