{"text_format":"3","workbook":"xlsx","n_sheets":1,"sheets":["Sheet1"],"not_rendered":{"external_links":1},"read":"whole","date_system":"1900"}

{"sheet":"Sheet1","index":0,"n_rows":21,"n_cols":7,"rows_kept":21}
["地市","单位","岗位","岗位代码","报考人数","招录人数","竞争比"]
[{"$f":"VLOOKUP(D2,'[1]匹配表（勿动）'!A:E,2,0)","v":"柳州"},{"$f":"VLOOKUP(D2,'[1]匹配表（勿动）'!A:E,4,0)","v":"中共柳州市委组织部"},{"$f":"VLOOKUP(D2,'[1]匹配表（勿动）'!A:E,5,0)","v":"选调生岗位一（柳州市）"},145029001,1,{"$f":"VLOOKUP(D2,'[1]匹配表（勿动）'!A:F,6,0)","v":4},{"$f":"ROUND(E2/F2,0)&\":\"&\"1\"","v":"0:1"}]
[{"$f":"VLOOKUP(D3,'[1]匹配表（勿动）'!A:E,2,0)","v":"河池"},{"$f":"VLOOKUP(D3,'[1]匹配表（勿动）'!A:E,4,0)","v":"中共河池市委组织部"},{"$f":"VLOOKUP(D3,'[1]匹配表（勿动）'!A:E,5,0)","v":"选调生岗位四（河池市）"},145279004,0,{"$f":"VLOOKUP(D3,'[1]匹配表（勿动）'!A:F,6,0)","v":2},"0:1"]
[{"$f":"VLOOKUP(D4,'[1]匹配表（勿动）'!A:E,2,0)","v":"贺州"},{"$f":"VLOOKUP(D4,'[1]匹配表（勿动）'!A:E,4,0)","v":"中共贺州市委组织部"},{"$f":"VLOOKUP(D4,'[1]匹配表（勿动）'!A:E,5,0)","v":"选调生岗位八（贺州市）"},145249008,0,{"$f":"VLOOKUP(D4,'[1]匹配表（勿动）'!A:F,6,0)","v":1},"0:1"]
[{"$f":"VLOOKUP(D5,'[1]匹配表（勿动）'!A:E,2,0)","v":"贺州"},{"$f":"VLOOKUP(D5,'[1]匹配表（勿动）'!A:E,4,0)","v":"中共贺州市委组织部"},{"$f":"VLOOKUP(D5,'[1]匹配表（勿动）'!A:E,5,0)","v":"选调生岗位七（贺州市）"},145249007,0,{"$f":"VLOOKUP(D5,'[1]匹配表（勿动）'!A:F,6,0)","v":1},"0:1"]
[{"$f":"VLOOKUP(D6,'[1]匹配表（勿动）'!A:E,2,0)","v":"贺州"},{"$f":"VLOOKUP(D6,'[1]匹配表（勿动）'!A:E,4,0)","v":"中共贺州市委组织部"},{"$f":"VLOOKUP(D6,'[1]匹配表（勿动）'!A:E,5,0)","v":"选调生岗位五（贺州市）"},145249005,0,{"$f":"VLOOKUP(D6,'[1]匹配表（勿动）'!A:F,6,0)","v":1},"0:1"]
[{"$f":"VLOOKUP(D7,'[1]匹配表（勿动）'!A:E,2,0)","v":"贺州"},{"$f":"VLOOKUP(D7,'[1]匹配表（勿动）'!A:E,4,0)","v":"中共贺州市委组织部"},{"$f":"VLOOKUP(D7,'[1]匹配表（勿动）'!A:E,5,0)","v":"选调生岗位三（贺州市）"},145249003,0,{"$f":"VLOOKUP(D7,'[1]匹配表（勿动）'!A:F,6,0)","v":1},"0:1"]
[{"$f":"VLOOKUP(D8,'[1]匹配表（勿动）'!A:E,2,0)","v":"来宾"},{"$f":"VLOOKUP(D8,'[1]匹配表（勿动）'!A:E,4,0)","v":"中共来宾市委组织部"},{"$f":"VLOOKUP(D8,'[1]匹配表（勿动）'!A:E,5,0)","v":"选调生岗位八（来宾市）"},145229008,0,{"$f":"VLOOKUP(D8,'[1]匹配表（勿动）'!A:F,6,0)","v":1},"0:1"]
[{"$f":"VLOOKUP(D9,'[1]匹配表（勿动）'!A:E,2,0)","v":"来宾"},{"$f":"VLOOKUP(D9,'[1]匹配表（勿动）'!A:E,4,0)","v":"中共来宾市委组织部"},{"$f":"VLOOKUP(D9,'[1]匹配表（勿动）'!A:E,5,0)","v":"选调生岗位五（来宾市）"},145229005,0,{"$f":"VLOOKUP(D9,'[1]匹配表（勿动）'!A:F,6,0)","v":1},"0:1"]
[{"$f":"VLOOKUP(D10,'[1]匹配表（勿动）'!A:E,2,0)","v":"防城港"},{"$f":"VLOOKUP(D10,'[1]匹配表（勿动）'!A:E,4,0)","v":"中共防城港市委组织部"},{"$f":"VLOOKUP(D10,'[1]匹配表（勿动）'!A:E,5,0)","v":"选调生岗位三（防城港市）"},145069003,0,{"$f":"VLOOKUP(D10,'[1]匹配表（勿动）'!A:F,6,0)","v":1},"0:1"]
[{"$f":"VLOOKUP(D11,'[1]匹配表（勿动）'!A:E,2,0)","v":"北海"},{"$f":"VLOOKUP(D11,'[1]匹配表（勿动）'!A:E,4,0)","v":"中共北海市委组织部"},{"$f":"VLOOKUP(D11,'[1]匹配表（勿动）'!A:E,5,0)","v":"选调生岗位五（北海市）"},145059005,0,{"$f":"VLOOKUP(D11,'[1]匹配表（勿动）'!A:F,6,0)","v":1},"0:1"]
[{"$f":"VLOOKUP(D12,'[1]匹配表（勿动）'!A:E,2,0)","v":"桂林"},{"$f":"VLOOKUP(D12,'[1]匹配表（勿动）'!A:E,4,0)","v":"中共桂林市委组织部"},{"$f":"VLOOKUP(D12,'[1]匹配表（勿动）'!A:E,5,0)","v":"选调生岗位一（桂林市）"},145039001,33,{"$f":"VLOOKUP(D12,'[1]匹配表（勿动）'!A:F,6,0)","v":5},"7:1"]
[{"$f":"VLOOKUP(D13,'[1]匹配表（勿动）'!A:E,2,0)","v":"南宁"},{"$f":"VLOOKUP(D13,'[1]匹配表（勿动）'!A:E,4,0)","v":"中共南宁市委组织部"},{"$f":"VLOOKUP(D13,'[1]匹配表（勿动）'!A:E,5,0)","v":"选调生岗位五（南宁市）"},145019005,33,{"$f":"VLOOKUP(D13,'[1]匹配表（勿动）'!A:F,6,0)","v":4},"8:1"]
[{"$f":"VLOOKUP(D14,'[1]匹配表（勿动）'!A:E,2,0)","v":"南宁"},{"$f":"VLOOKUP(D14,'[1]匹配表（勿动）'!A:E,4,0)","v":"中共南宁市委组织部"},{"$f":"VLOOKUP(D14,'[1]匹配表（勿动）'!A:E,5,0)","v":"选调生岗位四（南宁市）"},145019004,33,{"$f":"VLOOKUP(D14,'[1]匹配表（勿动）'!A:F,6,0)","v":4},"8:1"]
[{"$f":"VLOOKUP(D15,'[1]匹配表（勿动）'!A:E,2,0)","v":"南宁"},{"$f":"VLOOKUP(D15,'[1]匹配表（勿动）'!A:E,4,0)","v":"中共南宁市委组织部"},{"$f":"VLOOKUP(D15,'[1]匹配表（勿动）'!A:E,5,0)","v":"选调生岗位六（南宁市）"},145019006,32,{"$f":"VLOOKUP(D15,'[1]匹配表（勿动）'!A:F,6,0)","v":4},"8:1"]
[{"$f":"VLOOKUP(D16,'[1]匹配表（勿动）'!A:E,2,0)","v":"桂林"},{"$f":"VLOOKUP(D16,'[1]匹配表（勿动）'!A:E,4,0)","v":"中共桂林市委组织部"},{"$f":"VLOOKUP(D16,'[1]匹配表（勿动）'!A:E,5,0)","v":"选调生岗位二（桂林市）"},145039002,30,{"$f":"VLOOKUP(D16,'[1]匹配表（勿动）'!A:F,6,0)","v":5},"6:1"]
[{"$f":"VLOOKUP(D17,'[1]匹配表（勿动）'!A:E,2,0)","v":"崇左"},{"$f":"VLOOKUP(D17,'[1]匹配表（勿动）'!A:E,4,0)","v":"中共崇左市委组织部"},{"$f":"VLOOKUP(D17,'[1]匹配表（勿动）'!A:E,5,0)","v":"选调生岗位一（崇左市）"},145219001,27,{"$f":"VLOOKUP(D17,'[1]匹配表（勿动）'!A:F,6,0)","v":8},"3:1"]
[{"$f":"VLOOKUP(D18,'[1]匹配表（勿动）'!A:E,2,0)","v":"梧州"},{"$f":"VLOOKUP(D18,'[1]匹配表（勿动）'!A:E,4,0)","v":"中共梧州市委组织部"},{"$f":"VLOOKUP(D18,'[1]匹配表（勿动）'!A:E,5,0)","v":"选调生岗位八（梧州市）"},145049008,27,{"$f":"VLOOKUP(D18,'[1]匹配表（勿动）'!A:F,6,0)","v":4},"7:1"]
[{"$f":"VLOOKUP(D19,'[1]匹配表（勿动）'!A:E,2,0)","v":"河池"},{"$f":"VLOOKUP(D19,'[1]匹配表（勿动）'!A:E,4,0)","v":"中共河池市委组织部"},{"$f":"VLOOKUP(D19,'[1]匹配表（勿动）'!A:E,5,0)","v":"选调生岗位十一（河池市）"},145279011,26,{"$f":"VLOOKUP(D19,'[1]匹配表（勿动）'!A:F,6,0)","v":5},"5:1"]
[{"$f":"VLOOKUP(D20,'[1]匹配表（勿动）'!A:E,2,0)","v":"崇左"},{"$f":"VLOOKUP(D20,'[1]匹配表（勿动）'!A:E,4,0)","v":"中共崇左市委组织部"},{"$f":"VLOOKUP(D20,'[1]匹配表（勿动）'!A:E,5,0)","v":"选调生岗位三（崇左市）"},145219003,26,{"$f":"VLOOKUP(D20,'[1]匹配表（勿动）'!A:F,6,0)","v":8},"3:1"]
[{"$f":"VLOOKUP(D21,'[1]匹配表（勿动）'!A:E,2,0)","v":"南宁"},{"$f":"VLOOKUP(D21,'[1]匹配表（勿动）'!A:E,4,0)","v":"中共南宁市委组织部"},{"$f":"VLOOKUP(D21,'[1]匹配表（勿动）'!A:E,5,0)","v":"选调生岗位一（南宁市）"},145019001,24,{"$f":"VLOOKUP(D21,'[1]匹配表（勿动）'!A:F,6,0)","v":4},"6:1"]